BEGIN:VCALENDAR
VERSION:2.0
PRODID:-//ArtsEquator - ECPv5.16.3.1//NONSGML v1.0//EN
CALSCALE:GREGORIAN
METHOD:PUBLISH
X-WR-CALNAME:ArtsEquator
X-ORIGINAL-URL:https://artsequator.com
X-WR-CALDESC:Events for ArtsEquator
REFRESH-INTERVAL;VALUE=DURATION:PT1H
X-Robots-Tag:noindex
X-PUBLISHED-TTL:PT1H
BEGIN:VTIMEZONE
TZID:Asia/Shanghai
BEGIN:STANDARD
TZOFFSETFROM:+0800
TZOFFSETTO:+0800
TZNAME:CST
DTSTART:20240101T000000
END:STANDARD
END:VTIMEZONE
BEGIN:VEVENT
DTSTART;VALUE=DATE:20240823
DTEND;VALUE=DATE:20240908
DTSTAMP:20260421T235014
CREATED:20240702T093238Z
LAST-MODIFIED:20240702T093238Z
UID:94941-1724371200-1725753599@artsequator.com
SUMMARY:Singapore Night Festival 2024
DESCRIPTION:Singapore Night Festival 2024 \n\nThe Singapore Night Festival — Singapore’s largest nocturnal experience — returns to the Bras Basah.Bugis precinct for its 15th edition this year. Happening for three weekends for the first time from 23 August to 7 September this year’s festival is themed the Art of Play. This exploration of the concept of play and childhood is inspired by the historical significance of the precinct as the birthplace of some of Singapore’s first schools. \nDiscover the unique stories and traditions of the precinct through the festival’s signature projection mapping artworks night light installations by local and regional artists alongside a series of exciting programmes food and retail experiences across numerous Festival Villages and performances including jazz performances and a xinyao singalong — another festival first! \nTake a step back in time with this year’s Highlight Act titled Wonder World and bask in the old-school and retro vibes of Singapore from the 1950s to 1970s. Conceptualised by local artist SKL0 this seemingly whimsical amusement park experience ponders on and touches upon our modern idea of nostalgia and heritage. Look forward to being immersed in this world of amusement park rides old school games stalls nostalgia-themed food and beverages performances and more! \nWith the Singapore Night Festival 2024 running over three weekends join us and play on as we celebrate Singapore’s arts and culture! \nFor more information please visit:  https://www.nightfestival.gov.sg/ \n*The website will be refreshed with information on the 2024 edition on 17 July.
URL:https://artsequator.com/event/singapore-night-festival-2024/
LOCATION:Bras Basah.Bugis precinct\, Singapore\, Singapore
CATEGORIES:Festival (Events)
ATTACH;FMTTYPE=image/jpeg:https://artsequator.s3.ap-southeast-1.amazonaws.com/2024/06/Singapore-Night-Festival-2024-Key-Visual.-Image-credit-to-National-Heritage-Board.jpg
ORGANIZER;CN="National%20Heritage%20Board":MAILTO:nhb_feedback@nhb.gov.sg
GEO:1.352083;103.819836
END:VEVENT
BEGIN:VEVENT
DTSTART;TZID=Asia/Shanghai:20240823T180000
DTEND;TZID=Asia/Shanghai:20240907T223000
DTSTAMP:20260421T235014
CREATED:20240716T075702Z
LAST-MODIFIED:20240716T075702Z
UID:95047-1724436000-1725748200@artsequator.com
SUMMARY:A Date With Tradition 2024
DESCRIPTION:A Date with Tradition 2024 \nHeld in conjunction with Singapore Night Festival \n23 – 24 August 2024 | 6.00pm – 10.30pm \n30 August 2024 & 6 September 2024 | 6.00pm – 10.30pm \n31 August 2024 & 7 September 2024 | 3.00pm – 10.30pm  \nStamford Arts Centre \n155 Waterloo St\, Singapore 187962 \nFree and ticketed programmes \n  \nArts House Limited (AHL) proudly presents A Date with Tradition 2024 at Stamford Arts Centre (SAC)\, held in conjunction with the Singapore Night Festival. Join us for its third edition over three weekends — 23–24 August\, 30–31 August and 6–7 September — for an electrifying array of programmes that showcase the beauty and richness of our traditional arts\, foster social bonding\, and enhance multicultural understanding. From engaging workshops and performances to a community mural painting and other drop-in activities\, discover a wide array of fun experiences waiting for you! \n  \nMusic lovers can feel the rhythm with the syncretic sounds of Open Score Project in Palindrome as they premiere an original piece celebrating Singapore’s rich cultural tapestry. Additionally\, visitors to SAC can be enthralled by the traditional Indian dance form Kathakali in Bhaskar’s Arts Academy’s production of Cherita Singapura and P7:1SMA who will present Joget Putu Piring\, a traditional Joget dance performance inspired by the intricate process of kneading\, steaming and serving of our beloved local kueh delicacy\, putu piring. Another performance to look out for is a showcase of different genres of traditional Chinese opera\, Fledgelings Take Flight\, presented by Traditional Arts Centre’s Young People’s Opera Theatre. Discover the intricate artistry of Minhwa Painting guided by experts from the Singapore Association of Minhwa Art\, among many other exciting multicultural experiences. \n  \nDon’t miss this exhilarating celebration of tradition and fun! We encourage you to explore the festival grounds\, discovering new aspects of traditional arts and multicultural experiences. \n  \nFor more information\, visit https://artshouselimited.sg/a-date-with-tradition-2024 \n  \nFollow #ADateWithTradition on: \nFacebook: https://www.facebook.com/stamfordartscentresg/  \nInstagram: https://www.instagram.com/stamfordartscentresg/
URL:https://artsequator.com/event/a-date-with-tradition-2024/
LOCATION:Stamford Arts Centre\, 0202\, 155 Waterloo Street\, Singapore\, Singapore\, 187962\, Singapore
CATEGORIES:Festival (Events),Visual Arts (Events),Workshop & Talks (Events)
ATTACH;FMTTYPE=image/jpeg:https://artsequator.s3.ap-southeast-1.amazonaws.com/2024/07/ADWT-2024-KV-portrait-min-min.jpg
END:VEVENT
BEGIN:VEVENT
DTSTART;TZID=Asia/Shanghai:20240823T190000
DTEND;TZID=Asia/Shanghai:20240907T000000
DTSTAMP:20260421T235014
CREATED:20240826T100128Z
LAST-MODIFIED:20240826T100128Z
UID:95248-1724439600-1725667200@artsequator.com
SUMMARY:PIXEL PARADISE at Armenian Street
DESCRIPTION:PIXEL PARADISE at Armenian Street \nSingapore Night Festival Village  \n23 August – 7 September 2024\, 7pm – 12am \nProgrammes and extended hours available on: 30 – 31 August 2024\, 6 – 7 September 2024\, 7pm -11pm \nJoin us as Armenian Street transforms into Pixel Paradise! Inspired by the Peranakan Museum’s beaded objects and pixel video games\, immerse yourself in a pixelated universe of playful art and gamified experiences. Connect with other players\, participate in challenges\, and win rewards.  \nhttps://www.nhb.gov.sg/peranakanmuseum/whatson/programmes/singapore-night-festival-2024
URL:https://artsequator.com/event/pixel-paradise-at-armenian-street/
LOCATION:Peranakan Museum\, 39 Armenian St\, Singapore\, Singapore 179941\, Singapore
CATEGORIES:Festival (Events)
ATTACH;FMTTYPE=image/jpeg:https://artsequator.s3.ap-southeast-1.amazonaws.com/2024/08/Key-Visual-PIXEL-PARADISE-at-Armenian-Street.-Image-courtesy-of-Peranakan-Museum-1-1.jpg
GEO:1.2947654;103.8492062
X-APPLE-STRUCTURED-LOCATION;VALUE=URI;X-ADDRESS=Peranakan Museum 39 Armenian St Singapore Singapore 179941 Singapore;X-APPLE-RADIUS=500;X-TITLE=39 Armenian St:geo:103.8492062,1.2947654
END:VEVENT
BEGIN:VEVENT
DTSTART;TZID=Asia/Shanghai:20240906T193000
DTEND;TZID=Asia/Shanghai:20240906T201500
DTSTAMP:20260421T235014
CREATED:20240909T105609Z
LAST-MODIFIED:20240909T105609Z
UID:95324-1725651000-1725653700@artsequator.com
SUMMARY:Puppets Encore! Puppetry Performance
DESCRIPTION:A spark of curiosity takes Joshua UP & DOWN through the sky and under the sea; a fiery Auntie tries to reclaim her CHOPE-d kopitiam seat; a despondent Uncle begins healing from grief through an unexpected friendship with a puppy named RINGO; and a man and woman are locked in an absurdist romantic pursuit\, filled with magical mishaps caused by a single HACHOOO. \nPresented by The Finger Players\, Puppets Encore! is a collection of four puppetry skits addressing themes of human connection\, love\, loss\, and the joyful banality of quiet and profound ordinariness. In celebration of the company’s 25th anniversary\, Puppets Encore! aims to create works that bring communities together. The non-verbal stories will be brought to life through various forms of puppetry\, transcending language and age barriers. Puppets Encore! invites you to join us in celebrating everyday encounters through the timeless magic of puppetry.
URL:https://artsequator.com/event/puppets-encore-puppetry-performance/
LOCATION:5 Cox Terrace\, Fort Canning Centre\, 5 Cox Terrace\, Singapore\, Singapore\, 179620\, Singapore
CATEGORIES:Children/Family (Events),Festival (Events),Theatre (Events)
ATTACH;FMTTYPE=image/png:https://artsequator.s3.ap-southeast-1.amazonaws.com/2024/08/02-Landscape-1920x1080-copy-1.png
ORGANIZER;CN="The%20Finger%20Players":MAILTO:admin@fingerplayers.com
GEO:1.2952779;103.8468705
X-APPLE-STRUCTURED-LOCATION;VALUE=URI;X-ADDRESS=5 Cox Terrace Fort Canning Centre 5 Cox Terrace Singapore Singapore 179620 Singapore;X-APPLE-RADIUS=500;X-TITLE=Fort Canning Centre\, 5 Cox Terrace:geo:103.8468705,1.2952779
END:VEVENT
BEGIN:VEVENT
DTSTART;TZID=Asia/Shanghai:20240906T204500
DTEND;TZID=Asia/Shanghai:20240906T213000
DTSTAMP:20260421T235014
CREATED:20240909T105610Z
LAST-MODIFIED:20240909T105610Z
UID:95326-1725655500-1725658200@artsequator.com
SUMMARY:Puppets Encore! Puppetry Performance
DESCRIPTION:A spark of curiosity takes Joshua UP & DOWN through the sky and under the sea; a fiery Auntie tries to reclaim her CHOPE-d kopitiam seat; a despondent Uncle begins healing from grief through an unexpected friendship with a puppy named RINGO; and a man and woman are locked in an absurdist romantic pursuit\, filled with magical mishaps caused by a single HACHOOO. \nPresented by The Finger Players\, Puppets Encore! is a collection of four puppetry skits addressing themes of human connection\, love\, loss\, and the joyful banality of quiet and profound ordinariness. In celebration of the company’s 25th anniversary\, Puppets Encore! aims to create works that bring communities together. The non-verbal stories will be brought to life through various forms of puppetry\, transcending language and age barriers. Puppets Encore! invites you to join us in celebrating everyday encounters through the timeless magic of puppetry.
URL:https://artsequator.com/event/puppets-encore-puppetry-performance/2024-09-06/2/
LOCATION:5 Cox Terrace\, Fort Canning Centre\, 5 Cox Terrace\, Singapore\, Singapore\, 179620\, Singapore
CATEGORIES:Children/Family (Events),Festival (Events),Theatre (Events)
ATTACH;FMTTYPE=image/png:https://artsequator.s3.ap-southeast-1.amazonaws.com/2024/08/02-Landscape-1920x1080-copy-1.png
ORGANIZER;CN="The%20Finger%20Players":MAILTO:admin@fingerplayers.com
GEO:1.2952779;103.8468705
X-APPLE-STRUCTURED-LOCATION;VALUE=URI;X-ADDRESS=5 Cox Terrace Fort Canning Centre 5 Cox Terrace Singapore Singapore 179620 Singapore;X-APPLE-RADIUS=500;X-TITLE=Fort Canning Centre\, 5 Cox Terrace:geo:103.8468705,1.2952779
END:VEVENT
BEGIN:VEVENT
DTSTART;TZID=Asia/Shanghai:20240907T200000
DTEND;TZID=Asia/Shanghai:20240907T220000
DTSTAMP:20260421T235014
CREATED:20240909T105401Z
LAST-MODIFIED:20240909T105401Z
UID:95339-1725739200-1725746400@artsequator.com
SUMMARY:Waterloo Street Stories 2024: Cor Machina (Heart of the Machine)
DESCRIPTION:Cor Machina (Heart of the Machine) is an immersive and interactive experience combining poetry\, sound\, and light. Part of “Waterloo Street Stories 2024: Interplay” and Centre 42’s 10th Anniversary celebrations\, this event celebrates the rich histories and communities of Waterloo Street. \nWaterloo Street represents Singapore’s diverse heritage\, and Cor Machina explores the connections between communities and the arts\, symbolised by the typewriter as a relic with the poet as its beating heart. The typewriter’s mechanical clatter echoes modern life’s relentless grind\, yet within this noise\, there is beauty—a reminder that even in the machine\, the human heart creates with hope. \nCor Machina captures this playfully\, by inviting participants to explore these themes through creation. Audiences first enter an installation of pre-made prompts that draws from personal\, communal memories and stories of the street. They’re invited to send in an order for a poem to the Proletariat Poetry Factory\, which becomes a meta memory machine. Poets\, musicians\, and artists create new memories and stories from their inputs\, blending them with the street’s past. \nThe work evokes collective remembrance and celebrates the street’s heritage in a contemporary context. The intent is to spark meaningful conversations\, weaving together past and present\, individual and collective experience. This performance is also in conjunction with Centre 42’s 10th Anniversary\, serving to commemorate our placemaking and memory making on Waterloo Street.
URL:https://artsequator.com/event/waterloo-street-stories-2024-cor-machina-heart-of-the-machine/
LOCATION:42 Waterloo St\, 42 Waterloo St\, 187951\, Singapore
CATEGORIES:Event of the Day,Festival (Events),Literary Events/Talks (Events),Other (Events),Theatre (Events)
ATTACH;FMTTYPE=image/png:https://artsequator.s3.ap-southeast-1.amazonaws.com/2024/09/PPF-X-Waterloo-Street-Stories-2024-Presents.png
ORGANIZER;CN="Centre%2042":MAILTO:info@centre42.sg
GEO:1.2984662;103.8507241
X-APPLE-STRUCTURED-LOCATION;VALUE=URI;X-ADDRESS=42 Waterloo St 42 Waterloo St 187951 Singapore;X-APPLE-RADIUS=500;X-TITLE=42 Waterloo St:geo:103.8507241,1.2984662
END:VEVENT
BEGIN:VEVENT
DTSTART;TZID=Asia/Shanghai:20240918T190000
DTEND;TZID=Asia/Shanghai:20240921T210000
DTSTAMP:20260421T235014
CREATED:20240909T105307Z
LAST-MODIFIED:20240909T105307Z
UID:95343-1726686000-1726952400@artsequator.com
SUMMARY:The Idea of North 2024
DESCRIPTION:The Idea of North 2024 is a vibrant four-day festival in Singapore celebrating 40 years of bilateral ties between Brunei Darussalam and Singapore. Featuring emerging and established creatives and business professionals from both nations\, focusing on future collaborations\, revealing intriguing cultural connections\, and fostering artistic exchanges. \nOrganised by Global Cultural Alliance\, this biennial festival aims to enhance people-to-people connections through the arts. Don’t miss this opportunity to explore and celebrate the rich cultural ties between Singapore and Brunei Darussalam! Check out our website for the full programme offering!
URL:https://artsequator.com/event/the-idea-of-north-2024/
LOCATION:10 Square\, 181\, Orchard Road\, #10-01\, Orchard Central\, Singapore\, Singapore\, 238896\, Singapore
CATEGORIES:Artist Opportunities,Festival (Events),Film Screening (Events),Music (Events),Visual Arts (Events)
ATTACH;FMTTYPE=image/jpeg:https://artsequator.s3.ap-southeast-1.amazonaws.com/2024/09/https___cdn.evbuc_.com_images_834148539_266517357935_1_original.jpeg
ORGANIZER;CN="Global%20Cultural%20Alliance":MAILTO:candice_chee@gcaworld.sg
GEO:1.3008499;103.8396956
X-APPLE-STRUCTURED-LOCATION;VALUE=URI;X-ADDRESS=10 Square 181 Orchard Road #10-01 Orchard Central Singapore Singapore 238896 Singapore;X-APPLE-RADIUS=500;X-TITLE=181\, Orchard Road\, #10-01\, Orchard Central:geo:103.8396956,1.3008499
END:VEVENT
BEGIN:VEVENT
DTSTART;TZID=Asia/Shanghai:20240921T140000
DTEND;TZID=Asia/Shanghai:20240922T210000
DTSTAMP:20260421T235014
CREATED:20240924T073824Z
LAST-MODIFIED:20240924T073824Z
UID:95467-1726927200-1727038800@artsequator.com
SUMMARY:Creators Marketplace: A Prelude to Aliwal Urban Art Festival 2025
DESCRIPTION:Saturday & Sunday\, 21 & 22 September 2024   \n2PM – 9PM   \nAliwal Arts Centre  \nLooking to discover local brands and score some exclusive finds? Creators Marketplace is a  new event you won’t want to miss!   \nProudly organised by Arts House Limited in collaboration with Hustlers Reunion\, Suave Cartel  Media and 3AM Collective\, this vibrant marketplace sets the stage for the highly anticipated  Aliwal Urban Art Festival 2025. The Festival will feature a similar marketplace next year\, so join  us now for a sneak peek and experience the excitement first-hand!  \nCreators Marketplace is a dynamic celebration of Singapore’s creative and urban communities\,  right in the heart of the Kampong Glam precinct. This F1 weekend from 21 to 22 September\,  head down to Aliwal Arts Centre to explore an eclectic mix of homegrown brands\, designers\,  and artists showcasing a wide array of apparel\, accessories\, sneakers\, prints\, toys\, homeware\,  and artisanal scents. Shop from fan-favourites like Eyeyah!\, Classified Footwear\, Shop With  The Sisters and many more! With 19 unique booths brimming with one-of-a-kind treasures\, this  is the spot for lovers of streetwear\, design\, and handcrafted goods.  \nThere’s more to enjoy — join a panel discussion on “A Good Brand is Good Business”\, featuring  local brand founders Klingsmen from Classified Footwear\, Tze Ling from Second Natvre\, Afiq  Rezza from Yunos & Family and musician-educator Ginette Chittick\, as they share insights into  building successful brands.  \nFor more details\, visit https://artshouselimited.sg/aac-auaf-2025/creators-marketplace or  follow Aliwal Arts Centre on Facebook and Instagram.
URL:https://artsequator.com/event/creators-marketplace-a-prelude-to-aliwal-urban-art-festival-2025/
LOCATION:Aliwal Arts Centre\, 28 Aliwal St\, Singapore\, 199918\, Singapore
CATEGORIES:Festival (Events),Visual Arts (Events)
ATTACH;FMTTYPE=image/jpeg:https://artsequator.s3.ap-southeast-1.amazonaws.com/2024/09/Creators-Marketplace-Key-Visual-Courtesy-of-Arts-House-Limited.jpg
GEO:1.3027035;103.8609818
X-APPLE-STRUCTURED-LOCATION;VALUE=URI;X-ADDRESS=Aliwal Arts Centre 28 Aliwal St Singapore 199918 Singapore;X-APPLE-RADIUS=500;X-TITLE=28 Aliwal St:geo:103.8609818,1.3027035
END:VEVENT
END:VCALENDAR