BEGIN:VCALENDAR
VERSION:2.0
PRODID:-//ArtsEquator - ECPv5.16.3.1//NONSGML v1.0//EN
CALSCALE:GREGORIAN
METHOD:PUBLISH
X-WR-CALNAME:ArtsEquator
X-ORIGINAL-URL:https://artsequator.com
X-WR-CALDESC:Events for ArtsEquator
REFRESH-INTERVAL;VALUE=DURATION:PT1H
X-Robots-Tag:noindex
X-PUBLISHED-TTL:PT1H
BEGIN:VTIMEZONE
TZID:Asia/Shanghai
BEGIN:STANDARD
TZOFFSETFROM:+0800
TZOFFSETTO:+0800
TZNAME:CST
DTSTART:20240101T000000
END:STANDARD
TZID:Asia/Singapore
BEGIN:STANDARD
TZOFFSETFROM:+0800
TZOFFSETTO:+0800
TZNAME:+08
DTSTART:20240101T000000
END:STANDARD
END:VTIMEZONE
BEGIN:VEVENT
DTSTART;TZID=Asia/Shanghai:20240501T080000
DTEND;TZID=Asia/Shanghai:20240630T000000
DTSTAMP:20260422T024444
CREATED:20240525T151001Z
LAST-MODIFIED:20240525T151001Z
UID:94776-1714550400-1719705600@artsequator.com
SUMMARY:*SCAPE Creative Arts Residencies Open Call
DESCRIPTION:Attention all creatives! Are you a choreographer\, dancer\, filmmaker\, movement artist or visual artist?​ \n*SCAPE Creative Arts wants YOU! Join us in shaping the future of art as we collaborate\, experiment\, and nurture new and original works. Dive into a melting pot of groundbreaking ideas and collaborations that will catapult your artistic journey.​ \nShowcase your creativity and present your masterpieces in early 2025.​\n​\nSeize this rare chance and apply now! Application period: May – June 2024. Learn more at scape.sg/open-call.
URL:https://artsequator.com/event/scape-creative-arts-residencies-open-call/
LOCATION:*SCAPE\, 2 Orchard Link #02-14\, Singapore\, Singapore\, 237978\, Singapore
CATEGORIES:Artist Opportunities,Dance (Events),Festival (Events),Residencies & Fellowships,Visual Arts (Events)
ORGANIZER;CN="%2ASCAPE":MAILTO:nyfa@scape.sg
GEO:1.3010543;103.835846
X-APPLE-STRUCTURED-LOCATION;VALUE=URI;X-ADDRESS=*SCAPE 2 Orchard Link #02-14 Singapore Singapore 237978 Singapore;X-APPLE-RADIUS=500;X-TITLE=2 Orchard Link #02-14:geo:103.835846,1.3010543
END:VEVENT
BEGIN:VEVENT
DTSTART;VALUE=DATE:20240517
DTEND;VALUE=DATE:20240603
DTSTAMP:20260422T024444
CREATED:20240313T092535Z
LAST-MODIFIED:20240313T092535Z
UID:93869-1715904000-1717372799@artsequator.com
SUMMARY:SIFA 2024: The Anatomy of Performance – They Declare
DESCRIPTION:Returning from 17 May to 2 June 2024\, the Singapore International Festival of Arts (SIFA) 2024 presents The Anatomy of Performance – They Declare\, an expression of the multiplicity of voices that the Festival welcomes and celebrates. With Festival Director\, Natalie Hennedige\, setting the direction of the Festival for a third year\, SIFA 2024 calls for audiences to embrace difference and make space for the coexistence of different beliefs and ways of being.  \n  \nSIFA 2024 continues to foster creative intersections\, progressive and original works that demonstrate how performance can be approached as a dynamic arena for artistic innovation and expression\, as well as reflect shifting perspectives today. Festivalgoers can look forward to a diverse line-up ranging from dynamic transnational collaborations\, exciting invited international presentations\, an engaging event that celebrates Singapore’s vibrant theatre scene\, as well as Little SIFA\, an all-new programming pillar dedicated to families and children. Examples of these highlights include:  \n\nMoby Dick by Norwegian director\, actress\, puppet-maker\, and artistic director of Plexus Polaire\, Yngvild Aspeli\, presents a 90-minute live adaptation of Herman Melville’s mythical work about an ancient white whale. Performed by a cast of seven actors\, fifty puppets\, and video projections\, the work employs filmic techniques\, captivating puppetry\, and clever stagecraft to manipulate the audience’s perspective.\nSUARA / Oro Rua by Singapore music artist Safuan Johari and Māori Choreographer Eddie Elliot features original compositions\, choral singers\, and New Zealand dance artists to imagine a post-Anthropocene future.\nSingapore theatre-makers Haresh Sharma and Chong Tze Chien’s The Prose and the Passion is a play where fictional characters from English novelist E. M. Forster’s novels traverse space and time and interact with characters from Sharma’s imagination. \nFirst showcased at the 2019 Venice Biennale\, internationally-acclaimed award-winning experiential opera performance Sun & Sea by Rugilė Barzdžiukaitė\, Vaiva Grainytė\, Lina Lapelytė\, will make its Singapore debut at SIFA 2024. An ecological work at its very core\, the work takes the form of an imitation beach indoors where its lounging performers sing about mundane existence\, worry\, and boredom\, darkly remarking on the Earth’s decline.\nTransforming Stamford Arts Centre into a sandbox of works-in-process\, Tomorrow and tomorrow is an extraordinary opportunity to witness the diverse practices of local theatre groups on a single platform\, opening up vistas for future presentations while unearthing Singapore’s fertile ground for contemporary theatre-making.\nAs part of Little SIFA\, The Dancer’s Fair beckons audiences of all ages to Cathay Green\, where a larger-than-life ballerina and an old-style fair comprising seven fascinating machines await. Catch Leonardo! A Wonderful Show About A Terrible Monster\, where Mo Willems’ books are brought to life with hundreds of illustrated paper puppets\, book pages\, two-dimensional props\, furry monster puppets and songs.\nSIFA’s online presence continues with the light gleams an instant\, a 9-minute experimental short film helmed by film artist Natalie Soh in collaboration with Lee Kong Chian Natural History Museum and Yong Siew Toh Conservatory of Music that responds to the museum’s collections of specimens\, exploring the recursive and decaying nature of memory and meaning-making.\n\nSIFA 2024 is commissioned by the National Arts Council and organised by the Arts House Limited.
URL:https://artsequator.com/event/sifa-2024-the-anatomy-of-performance-they-declare/
LOCATION:Singapore
CATEGORIES:Children/Family (Events),Festival (Events),Theatre (Events)
ATTACH;FMTTYPE=image/jpeg:https://artsequator.s3.ap-southeast-1.amazonaws.com/2024/02/Key-Visual-Landscape-Singapore-International-Festival-of-Arts-2024-Image-courtesy-of-Arts-House-Limited.jpg
END:VEVENT
BEGIN:VEVENT
DTSTART;TZID=Asia/Shanghai:20240517T000000
DTEND;TZID=Asia/Shanghai:20240602T233000
DTSTAMP:20260422T024444
CREATED:20240429T150104Z
LAST-MODIFIED:20240429T150104Z
UID:94628-1715904000-1717371000@artsequator.com
SUMMARY:URL to IRL: SIFA Digital
DESCRIPTION:Beginning in 2022\, the Singapore International Festival of Arts (SIFA) introduced a virtual venue and creation platform hosted on the official festival website. This platform showcases digital art\, as well as creative responses to the SIFA performances\, which expand\, organise\, and deepen the ideas and artistry radiating from each edition of the festival. This year\, 𝘜𝘙𝘓 𝘵𝘰 𝘐𝘙𝘓 brings a selection of these online creations into the physical space of Victoria Theatre & Concert Hall Atrium. In this installation\, digital explorations find new life in real life. You’re invited to wander through the creations\, reminisce on past editions and reflect on the manifold conversations that art inspires.
URL:https://artsequator.com/event/url-to-irl-sifa-digital/
LOCATION:Victoria Theatre\, 9 Empress Pl\, 179556\, Singapore\, 179556\, Singapore
CATEGORIES:Festival (Events)
ATTACH;FMTTYPE=image/jpeg:https://artsequator.s3.ap-southeast-1.amazonaws.com/2024/04/URL-TO-IRL_-SIFA-Digital-by-Hong-Xingyi-and-Winnie-Wu-Image-courtesy-of-Arts-House-Limited.jpg
GEO:1.2883579;103.8512779
X-APPLE-STRUCTURED-LOCATION;VALUE=URI;X-ADDRESS=Victoria Theatre 9 Empress Pl 179556 Singapore 179556 Singapore;X-APPLE-RADIUS=500;X-TITLE=9 Empress Pl\, 179556:geo:103.8512779,1.2883579
END:VEVENT
BEGIN:VEVENT
DTSTART;TZID=Asia/Shanghai:20240517T000000
DTEND;TZID=Asia/Shanghai:20240602T233000
DTSTAMP:20260422T024444
CREATED:20240429T150145Z
LAST-MODIFIED:20240429T150145Z
UID:94626-1715904000-1717371000@artsequator.com
SUMMARY:FL(U)ORESCENCE
DESCRIPTION:Writer and editor Hong Xinyi joins us once again\, as the curator of SIFA’s online platform for creative responses by art writers to the festival’s programmes. This year\, the platform bears the name 𝘍𝘓(𝘜)𝘖𝘙𝘌𝘚𝘊𝘌𝘕𝘊𝘌; the creative responses are likened to flowers blossoming above the mycelial network of the festival.
URL:https://artsequator.com/event/fluorescence/
LOCATION:Online\, Singapore
CATEGORIES:Festival (Events)
ATTACH;FMTTYPE=image/jpeg:https://artsequator.s3.ap-southeast-1.amazonaws.com/2024/04/Fluorescence-by-Hong-Xinyi-Image-courtesy-of-Arts-House-Limited.jpg
GEO:1.352083;103.819836
END:VEVENT
BEGIN:VEVENT
DTSTART;VALUE=DATE:20240530
DTEND;VALUE=DATE:20240602
DTSTAMP:20260422T024444
CREATED:20240401T041740Z
LAST-MODIFIED:20240401T041740Z
UID:94364-1717027200-1717286399@artsequator.com
SUMMARY:Sun & Sea
DESCRIPTION:Sun & Sea by Rugilė Barzdžiukaitė Vaiva Grainytė & Lina Lapelytė (LT) is a programme under Singapore International Festival of Arts (SIFA) 2024. \nSun & Sea takes place on an artificial beach crafted through light architecture and music. Vacationers in colourful bathing suits are lying next to each other on sandy ground while the audience observes them from above as though from the point of view of the sun. \nIn the heat of a summer day characters begin telling their stories. Frivolous micro-stories slowly give rise to broader more serious subjects and grow into a global symphony a universal human choir addressing planetary-scale climate breakdown. In the work the physical finitude and fatigue of the human body becomes a stand-in for an exhausted Earth. \nThe setting a crowded beach instinctively evokes laziness and a breezy holiday mood. In this context the message follows suit: serious topics unfold easily softly-like a pop song on the very last day on Earth. \nAn ecological work at its very core Sun & Sea is concerned with the way in which we-our human species consistently fails to recognise those planetary-scale threats and urgencies we ourselves are the cumulative cause of. \n30 & 31 May 2024\, Thu & Fri\n6PM\, 7PM\, 8PM & 9PM \n1 June 2024\, Sat\n2PM\, 3PM\, 4PM & 5PM \nEsplanade Theatre \n$68
URL:https://artsequator.com/event/sun-sea/
LOCATION:Esplanade Theatre\, 1 Esplanade Drive\, Singapore\, Singapore\, 038981\, Singapore
CATEGORIES:Festival (Events)
ATTACH;FMTTYPE=image/jpeg:https://artsequator.s3.ap-southeast-1.amazonaws.com/2024/03/Sun-Sea-by-Lina-Lapelyte-Rugile-Barzdziukaite-and-Vaiva-Grainyte-Image-courtesy-of-Alkantara.jpg
GEO:1.289857;103.8552799
X-APPLE-STRUCTURED-LOCATION;VALUE=URI;X-ADDRESS=Esplanade Theatre 1 Esplanade Drive Singapore Singapore 038981 Singapore;X-APPLE-RADIUS=500;X-TITLE=1 Esplanade Drive:geo:103.8552799,1.289857
END:VEVENT
BEGIN:VEVENT
DTSTART;TZID=Asia/Singapore:20240531T193000
DTEND;TZID=Asia/Singapore:20240623T235900
DTSTAMP:20260422T024444
CREATED:20240429T060457Z
LAST-MODIFIED:20240429T060457Z
UID:94652-1717183800-1719187140@artsequator.com
SUMMARY:i Light Singapore returns for its 10th edition with art and experiences across Marina Bay and neighbouring precincts
DESCRIPTION:i Light Singapore (iLSG) returns for its 10th edition from 31 May to 23 June 2024 to light up Marina Bay and neighbouring precincts. Organised by the Urban Redevelopment Authority (URA)\, the footprint of Asia’s leading sustainable light festival has expanded further in this milestone edition. Beyond Marina Bay\, South Beach and Millenia Walk\, iLSG will also be arriving in Tanjong Pagar for the first time. \nFeaturing 17 artworks by 25 artists\, this year’s Festival is inspired by the theme of Cyclical Nature and the colour green\, a wavelength on the visible light spectrum that symbolises nature and our environment. Visitors are invited to immerse themselves in contemplative and interactive artworks that explore the endless potential of everyday objects for re-design\, restoration and repurposing. \niLSG 2024 will be held from 31 May to 23 June 2024\, 7:30pm to 11:00pm daily with extended hours to 12:00am on Fridays and Saturdays. Admission is free while charges apply for certain programmes. Visit www.ilightsingapore.gov.sg for more information.
URL:https://artsequator.com/event/i-light-singapore-returns-for-its-10th-edition-with-art-and-experiences-across-marina-bay-and-neighbouring-precincts/
LOCATION:Marina Bay Singapore
CATEGORIES:Festival (Events),Visual Arts (Events)
ORGANIZER;CN="Urban%20Redevelopment%20Authority":MAILTO:URA_mbsc@ura.gov.sg
END:VEVENT
BEGIN:VEVENT
DTSTART;TZID=Asia/Shanghai:20240621T110000
DTEND;TZID=Asia/Shanghai:20240720T173000
DTSTAMP:20260422T024444
CREATED:20240515T023826Z
LAST-MODIFIED:20240515T023826Z
UID:94734-1718967600-1721496600@artsequator.com
SUMMARY:Attraction With Reflection - Discover Wellness Through Art and Tourism at Singapore's Iconic Attractions
DESCRIPTION:Join us at The Red Pencil (Singapore) for an extraordinary month-long journey of self-discovery and creativity as part of the Singapore Tourism Board’s Wellness Festival Singapore 2024. Our exclusive programme\, Attraction With Reflection\, uniquely combines the transformative power of art therapy with immersive tourism experiences. Partnering with Gardens By The Bay\, S.E.A. Aquarium\, and Peranakan Museum\, The Red Pencil (Singapore) offers a truly enriching adventure for all. \nParticipants will embark on captivating tours of these iconic attractions*\, followed by a transformative 1.5-hour art therapy workshop. In these workshops\, credentialed art therapists will guide participants to create reflective artistic responses inspired by the beautiful and intricate objects and motifs encountered during the tours. \nExperience a safe\, supportive environment where you can freely express your thoughts and emotions\, and connect with others on a deeper level. Don’t miss this chance to rejuvenate your mind and soul while exploring Singapore’s cultural and natural treasures! \nReady to join us? Learn more and secure your spot via this link – https://redpencil.org/singapore/attraction-with-reflection-art-therapy-workshops/ \n*Additional admission fees apply for attractions within Gardens By The Bay
URL:https://artsequator.com/event/attraction-with-reflection-discover-wellness-through-art-and-tourism-at-singapores-iconic-attractions/
LOCATION:Multiple Venues – Different Tourist Attractions In Singapore\, Singapore\, Singapore
CATEGORIES:Children/Family (Events),Festival (Events),Visual Arts (Events),Workshop & Talks (Events)
ATTACH;FMTTYPE=image/png:https://artsequator.s3.ap-southeast-1.amazonaws.com/2024/05/Media-Poster-The-Red-Pencil-X-Wellness-Festival-Singapore.png
ORGANIZER;CN="The%20Red%20Pencil%20%28Singapore%29":MAILTO:programme@redpencil.org
GEO:1.352083;103.819836
END:VEVENT
BEGIN:VEVENT
DTSTART;TZID=Asia/Shanghai:20240621T200000
DTEND;TZID=Asia/Shanghai:20240621T200000
DTSTAMP:20260422T024444
CREATED:20240611T060325Z
LAST-MODIFIED:20240611T060325Z
UID:94858-1719000000-1719000000@artsequator.com
SUMMARY:TGIF Music Station 周5音乐站: My Daddy My Hero 我的老爸是英雄
DESCRIPTION:父爱如山 (A Father’s love is just like a mountain. Vast but silent) Many of us tend to overlook our father’s silent love and care for us. Despite that\, they are the strong figure who is always there for us\, so we can rely on. Fathers will always be the bravest hero to us and a saviour in times of need. \n  \nTo reciprocate the love & care they have\, TGIF Music Station invites you to bring along your fathers for an evening of wonderful performances by Jeremy Chan\, Silver Ang\, Calvert Tay\, Zerlene\, and Bian Tong\, as they dedicate songs to all the amazing fathers out there!
URL:https://artsequator.com/event/tgif-music-station-%e5%91%a85%e9%9f%b3%e4%b9%90%e7%ab%99-my-daddy-my-hero-%e6%88%91%e7%9a%84%e8%80%81%e7%88%b8%e6%98%af%e8%8b%b1%e9%9b%84/
LOCATION:Singapore Chinese Cultural Centre\, Ho Bee Concourse\, Level 1\, 1 Straits Boulevard\, Singapore 018906\, 018906\, Singapore
CATEGORIES:Festival (Events),Music (Events)
ATTACH;FMTTYPE=image/png:https://artsequator.s3.ap-southeast-1.amazonaws.com/2024/06/Untitled-1400-x-1000-px-7.png
GEO:1.2758251;103.8496144
X-APPLE-STRUCTURED-LOCATION;VALUE=URI;X-ADDRESS=Singapore Chinese Cultural Centre Ho Bee Concourse Level 1 1 Straits Boulevard Singapore 018906 018906 Singapore;X-APPLE-RADIUS=500;X-TITLE=1 Straits Boulevard\, Singapore 018906:geo:103.8496144,1.2758251
END:VEVENT
BEGIN:VEVENT
DTSTART;TZID=Asia/Shanghai:20240622T100000
DTEND;TZID=Asia/Shanghai:20240622T220000
DTSTAMP:20260422T024444
CREATED:20240611T060457Z
LAST-MODIFIED:20240611T060457Z
UID:94852-1719050400-1719093600@artsequator.com
SUMMARY:Goodman Open House 2024
DESCRIPTION:For those seeking enriching activities this June\, look no further. Goodman Open House @ Goodman Arts Centre\, organised by Arts House Limited (AHL)\, is back for its 2024 edition — bigger and better\, with an exciting night programme! Kamini Ramachandran\, Director of Moonshadow Stories and The Storytelling Centre Ltd\, returns for the second year to lead the artistic curation and spearhead co-creation initiatives. Goodman Open House 2024 aims to showcase the artistic flair of Goodman Arts Centre’s tenants\, while encouraging visitors to engage in the creative process alongside the artist-tenants\, culminating in a cohesive celebration of the local arts community. Here are some programme highlights:  \n  \n\nUnleash your creative juices with interactive workshops offering participants a wide range of artistic activities. Dive into the joyous realm of Carnatic music with Sa-Ri-Ga-Ma: Music is Joy by TFA Lalita Kala Company in this musical workshop.  Young\, budding artists can let their imaginations soar at Checkpoint Theatre’s Monster Magic workshop\, where they will mould clay and spin tales to create their own monsters. Visual artists also have their chance to shine with a variety of expressive opportunities: Explore\, Turkish Floral Motif Painting by Swayam Folkart Painting\, master the art of Linocut Printmaking with Artefakt\, or sculpt unique cement fruit creations with Hoe Ai Yen.\n\n  \n\nFor nature lovers\, join Khairulddin Wahab’s Patterns of Nature drawing workshop\, taking inspiration from natural patterns found in flora and fauna to create unique designs. Furthermore\, discover the magic of indigo dye derived from plants at Felix Nai’s Fermented Clothing Workshop\, offering a hands-on experience in sustainable crafting. From dye bath preparation to mastering different dyeing techniques\, participants will learn the beauty of upcycling and create unique masterpieces with natural dye. \n\n  \n\nDelight in performances and pop-ups at Goodman Open House! Join in the Community Drum Circle led by the Ministry of Bellz at the amphitheatre\, where up to 100 public participants are invited to contribute to the merry music-making with percussion instruments and handbells. After the energetic parade\, unwind with a soothing guided meditative experience and indulge in a relaxing outdoor sound bath session as artist-tenant Neil Chua guides visitors through gentle breathing exercises and immerses them in the soulful melodies of singing bowls and the ethereal strains of ruan\, a traditional Chinese instrument. \n\n  \n\nGet up close and personal with our artist-tenants at their open studios\, where you can witness art come to life. Visitors can look forward to a showcase of woodcut printmaking by Lim Jia Qi and Zhang Fuming\, learn more about ComXnaut’s practice in visual storytelling art\, design projects\, and comic-writing\, and lose themselves in the flow of the music at experimental band The Observatory’s listening session SELECTORS.\n\n  \n\nFor the first time\, Goodman Open House presents an outdoor cinema experience with Cinewav\, screening a crowd favourite\, Barbie. Visitors can refuel after a full day of activities\, with delicious barbecued satay\, freshly grilled at live barbecue stations. Additionally\, traditional food stations will serve local snacks like ice kacang and kacang puteh\, popping up at different times throughout the day.\n\n  \nGet ready for a fun-filled day of arts exploration and appreciation! Goodman Open House is perfect for all ages\, offering something special for everyone. Stay tuned to https://artshouselimited.sg/goodmanopenhouse for more information. \n  \nInstagram: https://www.instagram.com/goodmanartscentre/ \nFacebook: https://www.facebook.com/GoodmanArtsCentre
URL:https://artsequator.com/event/goodman-open-house-2024/
LOCATION:Goodman Arts Centre\, 90 Goodman Road\, Block O\, Singapore\, Singapore 439053\, Singapore
CATEGORIES:Children/Family (Events),Festival (Events),Visual Arts (Events),Workshop & Talks (Events)
ATTACH;FMTTYPE=image/png:https://artsequator.s3.ap-southeast-1.amazonaws.com/2024/06/GAC-GOH24-1200x1200-socmed.png
GEO:1.30444;103.885325
X-APPLE-STRUCTURED-LOCATION;VALUE=URI;X-ADDRESS=Goodman Arts Centre 90 Goodman Road Block O Singapore Singapore 439053 Singapore;X-APPLE-RADIUS=500;X-TITLE=90 Goodman Road\, Block O:geo:103.885325,1.30444
END:VEVENT
END:VCALENDAR