BEGIN:VCALENDAR
VERSION:2.0
PRODID:-//ArtsEquator - ECPv5.16.3.1//NONSGML v1.0//EN
CALSCALE:GREGORIAN
METHOD:PUBLISH
X-WR-CALNAME:ArtsEquator
X-ORIGINAL-URL:https://artsequator.com
X-WR-CALDESC:Events for ArtsEquator
REFRESH-INTERVAL;VALUE=DURATION:PT1H
X-Robots-Tag:noindex
X-PUBLISHED-TTL:PT1H
BEGIN:VTIMEZONE
TZID:Asia/Shanghai
BEGIN:STANDARD
TZOFFSETFROM:+0800
TZOFFSETTO:+0800
TZNAME:CST
DTSTART:20220101T000000
END:STANDARD
END:VTIMEZONE
BEGIN:VEVENT
DTSTART;TZID=Asia/Shanghai:20221202T193000
DTEND;TZID=Asia/Shanghai:20221202T213000
DTSTAMP:20260423T185034
CREATED:20221115T060740Z
LAST-MODIFIED:20221115T060740Z
UID:87427-1670009400-1670016600@artsequator.com
SUMMARY:Christmas with The King's Singers
DESCRIPTION:Celebrate the magic of Christmas with festive favourites and brand-new surprises. In this concert\, The King’s Singers present their signature close-harmony style\, as well as music celebrating 100 years of Disney. \n  \nRepresenting the gold standard in a cappella singing on the world’s greatest stages for over 50 years\, The King’s Singers are renowned for their connection and engagement with their audiences\, their unrivalled technique\, versatility and skill in performance. Their consummate musicianship draws from the group’s rich heritage and pioneering spirit to create an extraordinary wealth of original works and unique collaborations. With their extensive discography\, The King’s Singers have won numerous awards including two Grammy Awards\, an Emmy Award\, and a place in Gramophone magazine’s inaugural Hall of Fame.
URL:https://artsequator.com/event/christmas-with-the-kings-singers/
LOCATION:Esplanade – Theatres on the Bay\, 1 Esplanade Dr\, 038981\, Singapore
CATEGORIES:Children/Family (Events),Event of the Day,Festival (Events),Music (Events)
ATTACH;FMTTYPE=image/png:https://artsequator.s3.ap-southeast-1.amazonaws.com/2022/11/tks.png
GEO:1.289857;103.8552799
X-APPLE-STRUCTURED-LOCATION;VALUE=URI;X-ADDRESS=Esplanade – Theatres on the Bay 1 Esplanade Dr 038981 Singapore;X-APPLE-RADIUS=500;X-TITLE=1 Esplanade Dr:geo:103.8552799,1.289857
END:VEVENT
END:VCALENDAR