BEGIN:VCALENDAR
VERSION:2.0
PRODID:-//ArtsEquator - ECPv5.16.3.1//NONSGML v1.0//EN
CALSCALE:GREGORIAN
METHOD:PUBLISH
X-WR-CALNAME:ArtsEquator
X-ORIGINAL-URL:https://artsequator.com
X-WR-CALDESC:Events for ArtsEquator
REFRESH-INTERVAL;VALUE=DURATION:PT1H
X-Robots-Tag:noindex
X-PUBLISHED-TTL:PT1H
BEGIN:VTIMEZONE
TZID:Asia/Shanghai
BEGIN:STANDARD
TZOFFSETFROM:+0800
TZOFFSETTO:+0800
TZNAME:CST
DTSTART:20220101T000000
END:STANDARD
END:VTIMEZONE
BEGIN:VEVENT
DTSTART;VALUE=DATE:20221008
DTEND;VALUE=DATE:20221101
DTSTAMP:20260423T185034
CREATED:20221004T050610Z
LAST-MODIFIED:20221005T055834Z
UID:86078-1665187200-1667260799@artsequator.com
SUMMARY:Wong Keen: Forest
DESCRIPTION:artcommune proudly presents Wong Keen: Forest\, in which the artist’s first major installation work\, along with his latest series of acrylic on rice paper paintings and collage works\, will make their debut. The show opens at the gallery on 8 October 22\, Saturday\, 3 – 6pm\, with Wong Keen in attendance. 
URL:https://artsequator.com/event/wong-keen-forest/
LOCATION:artcommune gallery\, 76 Bras Basah Rd\, #01-01\, Singapore 189558\, Singapore\, Singapore\, 189558\, Singapore
CATEGORIES:Event of the Day,Visual Arts (Events)
ATTACH;FMTTYPE=image/jpeg:https://artsequator.s3.ap-southeast-1.amazonaws.com/2022/10/e-invite.jpg
ORGANIZER;CN="artcommune%20gallery":MAILTO:valerie@artcommune.com.sg
GEO:1.2962693;103.8524962
X-APPLE-STRUCTURED-LOCATION;VALUE=URI;X-ADDRESS=artcommune gallery 76 Bras Basah Rd #01-01 Singapore 189558 Singapore Singapore 189558 Singapore;X-APPLE-RADIUS=500;X-TITLE=76 Bras Basah Rd\, #01-01\, Singapore 189558:geo:103.8524962,1.2962693
END:VEVENT
END:VCALENDAR