BEGIN:VCALENDAR
VERSION:2.0
PRODID:-//ArtsEquator - ECPv5.16.3.1//NONSGML v1.0//EN
CALSCALE:GREGORIAN
METHOD:PUBLISH
X-ORIGINAL-URL:https://artsequator.com
X-WR-CALDESC:Events for ArtsEquator
REFRESH-INTERVAL;VALUE=DURATION:PT1H
X-Robots-Tag:noindex
X-PUBLISHED-TTL:PT1H
BEGIN:VTIMEZONE
TZID:Asia/Shanghai
BEGIN:STANDARD
TZOFFSETFROM:+0800
TZOFFSETTO:+0800
TZNAME:CST
DTSTART:20220101T000000
END:STANDARD
END:VTIMEZONE
BEGIN:VEVENT
DTSTART;TZID=Asia/Shanghai:20220916T193000
DTEND;TZID=Asia/Shanghai:20220916T210000
DTSTAMP:20260424T052828
CREATED:20220805T092154Z
LAST-MODIFIED:20220813T014613Z
UID:84132-1663356600-1663362000@artsequator.com
SUMMARY:Esplanade Presents - Charlie Lim & The Great Wave
DESCRIPTION:Charlie Lim returns to the Esplanade Concert Hall once again\, this time with a stellar line-up of guest artists from The Great Wave\, a new artist collective set to release collaborative works.  \nIndulge in the musical synergies between Charlie and these artists as they perform their original music\, backed by Charlie’s superband of seasoned musicians\, The Mothership. Beyond musical exchange\, the artists will also share their personal experiences in songwriting along with insights into their creative processes through candid on-stage conversations.  \nBe part of this new chapter of Charlie’s musical journey and experience the next great wave of talented young artists!  \nA programme of PopLore\, in celebration of Esplanade’s 20th anniversary.\nDiscover and relive the epic\, storied and exhilarating journeys of different generations through Singapore popular music and culture. 
URL:https://artsequator.com/event/esplanade-presents-charlie-lim-the-great-wave/
LOCATION:Esplanade – Theatres on the Bay\, 1 Esplanade Dr\, 038981\, Singapore
CATEGORIES:Event of the Day,Music (Events)
ATTACH;FMTTYPE=image/png:https://artsequator.s3.ap-southeast-1.amazonaws.com/2022/08/Charlie-Lim_1920x1080.png
GEO:1.289857;103.8552799
X-APPLE-STRUCTURED-LOCATION;VALUE=URI;X-ADDRESS=Esplanade – Theatres on the Bay 1 Esplanade Dr 038981 Singapore;X-APPLE-RADIUS=500;X-TITLE=1 Esplanade Dr:geo:103.8552799,1.289857
END:VEVENT
END:VCALENDAR