BEGIN:VCALENDAR
VERSION:2.0
PRODID:-//ArtsEquator - ECPv5.16.3.1//NONSGML v1.0//EN
CALSCALE:GREGORIAN
METHOD:PUBLISH
X-ORIGINAL-URL:https://artsequator.com
X-WR-CALDESC:Events for ArtsEquator
REFRESH-INTERVAL;VALUE=DURATION:PT1H
X-Robots-Tag:noindex
X-PUBLISHED-TTL:PT1H
BEGIN:VTIMEZONE
TZID:Asia/Shanghai
BEGIN:STANDARD
TZOFFSETFROM:+0800
TZOFFSETTO:+0800
TZNAME:CST
DTSTART:20230101T000000
END:STANDARD
END:VTIMEZONE
BEGIN:VEVENT
DTSTART;TZID=Asia/Shanghai:20230310T200000
DTEND;TZID=Asia/Shanghai:20230318T213000
DTSTAMP:20260420T102737
CREATED:20230126T104100Z
LAST-MODIFIED:20230127T013304Z
UID:89203-1678478400-1679175000@artsequator.com
SUMMARY:Frontier Danceland presents LEAP 2023
DESCRIPTION:LEAP is a culmination of the young performers’ training in the PULSE Programme\, a one-year contemporary dance training and development initiative by Frontier Danceland. \nLEAP 2023 features an inaugural site-specific co-creation that explores a revisitation of what is closest to us\, which tends to be often neglected. This negotiation of nearness in space\, time and relationship invites an engagement in conversations with ourselves in regard to how we have thus far responded to the very immediate environment that we exist. \nCome experience the diverse co-existence between people and architecture in refreshed ways through a journey that unfolds through Frontier Danceland Studio and Goodman Arts Centre!
URL:https://artsequator.com/event/frontier-danceland-presents-leap-2023/
LOCATION:Goodman Arts Centre &  Frontier Danceland Studio (Meeting Point)\, 90 Goodman Road\, Block M\, #02-51/52\, Singapore\, Singapore\, 439053\, Singapore
CATEGORIES:Children/Family (Events),Dance (Events),Event of the Day
ATTACH;FMTTYPE=image/jpeg:https://artsequator.s3.ap-southeast-1.amazonaws.com/2023/01/LEAP2023-Arts-Equator-Event-Image-3mb-v2_.jpg
ORGANIZER;CN="Frontier%20Danceland":MAILTO:marketing@frontierdanceland.com
GEO:1.3032947;103.8851792
X-APPLE-STRUCTURED-LOCATION;VALUE=URI;X-ADDRESS=Goodman Arts Centre &  Frontier Danceland Studio (Meeting Point) 90 Goodman Road Block M #02-51/52 Singapore Singapore 439053 Singapore;X-APPLE-RADIUS=500;X-TITLE=90 Goodman Road\, Block M\, #02-51/52:geo:103.8851792,1.3032947
END:VEVENT
BEGIN:VEVENT
DTSTART;TZID=Asia/Shanghai:20230325T110000
DTEND;TZID=Asia/Shanghai:20230325T123000
DTSTAMP:20260420T102737
CREATED:20230310T081615Z
LAST-MODIFIED:20230313T080106Z
UID:89585-1679742000-1679747400@artsequator.com
SUMMARY:Little Red Riding Hood: Drypoint with Krystal Lay
DESCRIPTION:Be immersed in the classic story of Little Red Riding Hood\, and turn this childhood tale into a functional work of art! \nJoin Little Red as she teaches you how to upcycle storybook pages into pocket folders. You will be guided through a hands-on drypoint printing process to illustrate your own folder cover\, in the way that old fairy tale illustrations were made. \nRecommended for ages 7 and above. Adult supervision advised.
URL:https://artsequator.com/event/little-red-riding-hood-drypoint-with-krystal-lay/
LOCATION:STPI Creative Workshop & Gallery\, 41 Robertson Quay\, Singapore\, Singapore\, 238236\, Singapore
CATEGORIES:Children/Family (Events),Event of the Day,Visual Arts (Events),Workshop & Talks (Events)
ATTACH;FMTTYPE=image/jpeg:https://artsequator.s3.ap-southeast-1.amazonaws.com/2023/03/2.-RRH-MAIN.jpg
ORGANIZER;CN="STPI%20Creative%20Workshop%20%26amp%3B%20Gallery":MAILTO:communications@stpi.com.sg
GEO:1.2911018;103.8402617
X-APPLE-STRUCTURED-LOCATION;VALUE=URI;X-ADDRESS=STPI Creative Workshop & Gallery 41 Robertson Quay Singapore Singapore 238236 Singapore;X-APPLE-RADIUS=500;X-TITLE=41 Robertson Quay:geo:103.8402617,1.2911018
END:VEVENT
BEGIN:VEVENT
DTSTART;TZID=Asia/Shanghai:20230325T110000
DTEND;TZID=Asia/Shanghai:20230326T170000
DTSTAMP:20260420T102737
CREATED:20230311T045216Z
LAST-MODIFIED:20230711T034700Z
UID:89620-1679742000-1679850000@artsequator.com
SUMMARY:STPI Open House 2023: Fables
DESCRIPTION:STPI’s Open House returns this year with the theme of Fables. Journey through beloved tales with us and create whimsical prints that you can take home! \nFREE PROGRAMMES: \nPrint with the Pros\n✨ Take an exclusive look into our Creative Workshop\, and join us for interactive demonstrations with our team of expert print and papermakers. \nThe Launch Pad\n✨ Hop on the launch pad for exclusive demonstrations using our new series of Activity Kits\, and enjoy a launch day discount!\n🔗 Get yours here: https://bit.ly/STPI-ActivityKitLaunch \nThe Three Little Pigs\n✨ Print creative textures to help the little pigs build their houses. \nThe Tortoise and the Hare\n✨ Create your own paper tortoise and hare\, and race with your friends to the finish line! \nThe Ant and the Grasshopper\n✨ Create stamps of critters from the tale on Saturday and help us design the backdrop to Sunday’s interactive storytelling performances! \nPrint Anthology\n✨ Try your hand at screenprinting and recreate storybook images from a selection of fables \nPAID WORKSHOPS: \nLittle Red Riding Hood: Drypoint with Krystal Lay\n✨ Learn the drypoint printing process and illustrate a unique folder cover\, just like old fairy tale illustrations were made.\n📆 25 March\, Saturday\, 11.00AM – 12.30PM\n🔗 https://bit.ly/OpenHouse23-Drypoint \nEx libris: Stamp Carving with Drool Stamps\n✨ Create a bookplate rubber stamp with Rachel Ma\, and label your books the way people did back in the 15th century!\n📆 25 March\, Saturday\, 3.00PM – 5.00PM\n🔗 https://bit.ly/OpenHouse23-ExLibris \nGoldilocks and the Three Bears: Lino Carving with Jia Ling\n✨ Carve and print your very own storybook with the linocut printing technique.\n📆 26 March\, Sunday\, 11.00AM – 12.30PM\n🔗 https://bit.ly/OpenHouse23-LinoCarving \nWhimsical Creatures: Print & Draw with Shanlyn Chew\n✨ Unleash your imagination and build quirky\, one-of-a-kind creatures using a variety of printing techniques!\n📆 26 March\, Sunday\, 3.00PM – 5.00PM\n🔗 https://bit.ly/OpenHouse23-WhimsicalCreatures
URL:https://artsequator.com/event/stpi-open-house/
LOCATION:STPI Creative Workshop & Gallery\, 41 Robertson Quay\, Singapore\, Singapore\, 238236\, Singapore
CATEGORIES:Children/Family (Events),Event of the Day,Visual Arts (Events),Workshop & Talks (Events)
ATTACH;FMTTYPE=image/jpeg:https://artsequator.s3.ap-southeast-1.amazonaws.com/2023/03/1.-Open-House.jpg
ORGANIZER;CN="STPI%20Creative%20Workshop%20%26amp%3B%20Gallery":MAILTO:communications@stpi.com.sg
GEO:1.2911018;103.8402617
X-APPLE-STRUCTURED-LOCATION;VALUE=URI;X-ADDRESS=STPI Creative Workshop & Gallery 41 Robertson Quay Singapore Singapore 238236 Singapore;X-APPLE-RADIUS=500;X-TITLE=41 Robertson Quay:geo:103.8402617,1.2911018
END:VEVENT
BEGIN:VEVENT
DTSTART;TZID=Asia/Shanghai:20230325T150000
DTEND;TZID=Asia/Shanghai:20230325T170000
DTSTAMP:20260420T102737
CREATED:20230310T083256Z
LAST-MODIFIED:20230310T083256Z
UID:89587-1679756400-1679763600@artsequator.com
SUMMARY:Ex libris: Stamp Carving with Drool Stamps
DESCRIPTION:Join stamp carver Rachel Ma – also known as droolstamps – to create your very own bookplate rubber stamp! A bookplate\, or ex libris\, was used decorate and label a book with its owner’s name in the 15th century. \nWhat you will learn in this workshop:\n• Introduction to the tools that will be used\n• Tracing of design and transferring to stamp\n• Basic stamp-carving techniques\n• How to ink and stamp your rubber stamp \nThis workshop is suitable for beginners. All tools and materials are provided. At the end of the workshop\, you will take home 1-2 bookplate rubber stamps. \nRecommended for ages 7 and above. Adult supervision advised. \nImage courtesy of Rachel Ma.
URL:https://artsequator.com/event/ex-libris-stamp-carving-with-drool-stamps/
LOCATION:STPI Creative Workshop & Gallery\, 41 Robertson Quay\, Singapore\, Singapore\, 238236\, Singapore
CATEGORIES:Children/Family (Events),Event of the Day,Visual Arts (Events),Workshop & Talks (Events)
ATTACH;FMTTYPE=image/jpeg:https://artsequator.s3.ap-southeast-1.amazonaws.com/2023/03/3.-Ex-libris-MAIN.jpg
ORGANIZER;CN="STPI%20Creative%20Workshop%20%26amp%3B%20Gallery":MAILTO:communications@stpi.com.sg
GEO:1.2911018;103.8402617
X-APPLE-STRUCTURED-LOCATION;VALUE=URI;X-ADDRESS=STPI Creative Workshop & Gallery 41 Robertson Quay Singapore Singapore 238236 Singapore;X-APPLE-RADIUS=500;X-TITLE=41 Robertson Quay:geo:103.8402617,1.2911018
END:VEVENT
BEGIN:VEVENT
DTSTART;TZID=Asia/Shanghai:20230325T150000
DTEND;TZID=Asia/Shanghai:20230325T170000
DTSTAMP:20260420T102737
CREATED:20230311T070241Z
LAST-MODIFIED:20230311T070241Z
UID:89589-1679756400-1679763600@artsequator.com
SUMMARY:Ex libris: Stamp Carving with Drool Stamps
DESCRIPTION:Join stamp carver Rachel Ma – also known as droolstamps – to create your very own bookplate rubber stamp! A bookplate\, or ex libris\, was used decorate and label a book with its owner’s name in the 15th century. \nWhat you will learn in this workshop:\n• Introduction to the tools that will be used\n• Tracing of design and transferring to stamp\n• Basic stamp-carving techniques\n• How to ink and stamp your rubber stamp \nThis workshop is suitable for beginners. All tools and materials are provided. At the end of the workshop\, you will take home 1-2 bookplate rubber stamps. \nRecommended for ages 7 and above. Adult supervision advised. \nImage courtesy of Rachel Ma.
URL:https://artsequator.com/event/ex-libris-stamp-carving-with-drool-stamps-2/
LOCATION:STPI Creative Workshop & Gallery\, 41 Robertson Quay\, Singapore\, Singapore\, 238236\, Singapore
CATEGORIES:Children/Family (Events),Event of the Day,Visual Arts (Events),Workshop & Talks (Events)
ATTACH;FMTTYPE=image/jpeg:https://artsequator.s3.ap-southeast-1.amazonaws.com/2023/03/3.-Ex-libris-MAIN-1.jpg
ORGANIZER;CN="STPI%20Creative%20Workshop%20%26amp%3B%20Gallery":MAILTO:communications@stpi.com.sg
GEO:1.2911018;103.8402617
X-APPLE-STRUCTURED-LOCATION;VALUE=URI;X-ADDRESS=STPI Creative Workshop & Gallery 41 Robertson Quay Singapore Singapore 238236 Singapore;X-APPLE-RADIUS=500;X-TITLE=41 Robertson Quay:geo:103.8402617,1.2911018
END:VEVENT
BEGIN:VEVENT
DTSTART;TZID=Asia/Shanghai:20230326T150000
DTEND;TZID=Asia/Shanghai:20230326T170000
DTSTAMP:20260420T102737
CREATED:20230310T082258Z
LAST-MODIFIED:20230310T125854Z
UID:89597-1679842800-1679850000@artsequator.com
SUMMARY:Whimsical Creatures: Print and Draw with Shanlyn Chew
DESCRIPTION:Reimagine your favourite animal characters in this print and drawing workshop with illustrator Shanlyn Chew! Unleash your creativity and experiment with pops of colours and varying textures to build your own quirky\, one-of-a-kind creature from scratch. \nAll tools and materials will be provided. \nRecommended for ages 6 and above. Adult supervision advised. \nImages courtesy of Shanlyn C. (Mushroom Mountain).
URL:https://artsequator.com/event/whimsical-creatures-print-and-draw-with-shanlyn-chew-2/
LOCATION:STPI Creative Workshop & Gallery\, 41 Robertson Quay\, Singapore\, Singapore\, 238236\, Singapore
CATEGORIES:Children/Family (Events),Event of the Day,Film Screening (Events),Visual Arts (Events)
ATTACH;FMTTYPE=image/jpeg:https://artsequator.s3.ap-southeast-1.amazonaws.com/2023/03/5.-Whimsical-MAIN.jpg
ORGANIZER;CN="STPI%20Creative%20Workshop%20%26amp%3B%20Gallery":MAILTO:communications@stpi.com.sg
GEO:1.2911018;103.8402617
X-APPLE-STRUCTURED-LOCATION;VALUE=URI;X-ADDRESS=STPI Creative Workshop & Gallery 41 Robertson Quay Singapore Singapore 238236 Singapore;X-APPLE-RADIUS=500;X-TITLE=41 Robertson Quay:geo:103.8402617,1.2911018
END:VEVENT
BEGIN:VEVENT
DTSTART;TZID=Asia/Shanghai:20230326T150000
DTEND;TZID=Asia/Shanghai:20230326T170000
DTSTAMP:20260420T102737
CREATED:20230310T083138Z
LAST-MODIFIED:20230310T083138Z
UID:89599-1679842800-1679850000@artsequator.com
SUMMARY:Whimsical Creatures: Print and Draw with Shanlyn Chew
DESCRIPTION:Reimagine your favourite animal characters in this print and drawing workshop with illustrator Shanlyn Chew! Unleash your creativity and experiment with pops of colours and varying textures to build your own quirky\, one-of-a-kind creature from scratch. \nAll tools and materials will be provided. \nRecommended for ages 6 and above. Adult supervision advised. \nImages courtesy of Shanlyn C. (Mushroom Mountain).
URL:https://artsequator.com/event/whimsical-creatures-print-and-draw-with-shanlyn-chew/
LOCATION:STPI Creative Workshop & Gallery\, 41 Robertson Quay\, Singapore\, Singapore\, 238236\, Singapore
CATEGORIES:Children/Family (Events),Event of the Day,Film Screening (Events),Visual Arts (Events)
ATTACH;FMTTYPE=image/jpeg:https://artsequator.s3.ap-southeast-1.amazonaws.com/2023/03/5.-Whimsical-MAIN-1.jpg
ORGANIZER;CN="STPI%20Creative%20Workshop%20%26amp%3B%20Gallery":MAILTO:communications@stpi.com.sg
GEO:1.2911018;103.8402617
X-APPLE-STRUCTURED-LOCATION;VALUE=URI;X-ADDRESS=STPI Creative Workshop & Gallery 41 Robertson Quay Singapore Singapore 238236 Singapore;X-APPLE-RADIUS=500;X-TITLE=41 Robertson Quay:geo:103.8402617,1.2911018
END:VEVENT
END:VCALENDAR