BEGIN:VCALENDAR
VERSION:2.0
PRODID:-//ArtsEquator - ECPv5.16.3.1//NONSGML v1.0//EN
CALSCALE:GREGORIAN
METHOD:PUBLISH
X-ORIGINAL-URL:https://artsequator.com
X-WR-CALDESC:Events for ArtsEquator
REFRESH-INTERVAL;VALUE=DURATION:PT1H
X-Robots-Tag:noindex
X-PUBLISHED-TTL:PT1H
BEGIN:VTIMEZONE
TZID:Asia/Shanghai
BEGIN:STANDARD
TZOFFSETFROM:+0800
TZOFFSETTO:+0800
TZNAME:CST
DTSTART:20230101T000000
END:STANDARD
END:VTIMEZONE
BEGIN:VEVENT
DTSTART;TZID=Asia/Shanghai:20230204T100000
DTEND;TZID=Asia/Shanghai:20230204T190000
DTSTAMP:20260422T222757
CREATED:20230111T054817Z
LAST-MODIFIED:20230112T063307Z
UID:89033-1675504800-1675537200@artsequator.com
SUMMARY:Lunar New Year Celebrations @ the National Museum of Singapore
DESCRIPTION:“Hop” into the Lunar New Year at the National Museum of Singapore with your family and friends\, with an exciting array of activities prepared to usher in the Year of the Rabbit. From the lively lion dance performance to hands-on activities where you can create your Lunar New Year mementoes based on the museum’s collection\, there is something for everyone to experience at the museum!
URL:https://artsequator.com/event/lunar-new-year-celebrations-the-national-museum-of-singapore/
LOCATION:National Museum of Singapore\, 93 Stamford Road\, Singapore\, 178897\, Singapore
CATEGORIES:Event of the Day
ATTACH;FMTTYPE=image/jpeg:https://artsequator.s3.ap-southeast-1.amazonaws.com/2023/01/205_20220204_NMS.jpg
GEO:1.2967773;103.8486632
X-APPLE-STRUCTURED-LOCATION;VALUE=URI;X-ADDRESS=National Museum of Singapore 93 Stamford Road Singapore 178897 Singapore;X-APPLE-RADIUS=500;X-TITLE=93 Stamford Road:geo:103.8486632,1.2967773
END:VEVENT
END:VCALENDAR