BEGIN:VCALENDAR
VERSION:2.0
PRODID:-//ArtsEquator - ECPv5.16.3.1//NONSGML v1.0//EN
CALSCALE:GREGORIAN
METHOD:PUBLISH
X-WR-CALNAME:ArtsEquator
X-ORIGINAL-URL:https://artsequator.com
X-WR-CALDESC:Events for ArtsEquator
REFRESH-INTERVAL;VALUE=DURATION:PT1H
X-Robots-Tag:noindex
X-PUBLISHED-TTL:PT1H
BEGIN:VTIMEZONE
TZID:Asia/Shanghai
BEGIN:STANDARD
TZOFFSETFROM:+0800
TZOFFSETTO:+0800
TZNAME:CST
DTSTART:20230101T000000
END:STANDARD
END:VTIMEZONE
BEGIN:VEVENT
DTSTART;TZID=Asia/Shanghai:20230720T200000
DTEND;TZID=Asia/Shanghai:20230722T210000
DTSTAMP:20260420T092939
CREATED:20230710T161925Z
LAST-MODIFIED:20230710T161925Z
UID:91124-1689883200-1690059600@artsequator.com
SUMMARY:A Listening Body
DESCRIPTION:A listening body is a dance-theatre experience based on January’s thoughts and questions in and around Odissi. Informed by a practice that spans 30 years\, and more recently empowered by a virtual mentorship with (Odissi exponent) Bijayini Satpathy\, January has deepened her relationship with Odissi by actively listening and responding to her body\, mind and environment. This work peels away the commodified and exoticised layers of Odissi to reveal a relationship that is personal\, vulnerable and respectful\, enabling agency for both audience and performer to be equal partners in the experience. \nJanuary Low\, born in Kuala Lumpur\, Malaysia started dancing with Classical Ballet\, followed by 25 years of Indian Classical dance training in Sutra Dance Theatre\, Malaysia\, focusing on Odissi. https://www.januarylow.com/ \nShow times: \n20 Jul 2023 08:00PM\n21 Jul 2023 08:00PM\n22 Jul 2023 03:00PM\n22 Jul 2023 08:00PM
URL:https://artsequator.com/event/a-listening-body/
LOCATION:Damansara Performing Arts Center (DPAC)\, H-01\, Empire Damansara\, Jalan PJU 8/8\, Damansara Perdana\, Petaling Jaya\, Selangor\, 47820\, Malaysia
CATEGORIES:Dance (Events)
ORGANIZER;CN="January%20Low":MAILTO:januarylow@gmail.com
GEO:3.1670516;101.6120222
X-APPLE-STRUCTURED-LOCATION;VALUE=URI;X-ADDRESS=Damansara Performing Arts Center (DPAC) H-01 Empire Damansara Jalan PJU 8/8 Damansara Perdana Petaling Jaya Selangor 47820 Malaysia;X-APPLE-RADIUS=500;X-TITLE=H-01\, Empire Damansara\, Jalan PJU 8/8\, Damansara Perdana:geo:101.6120222,3.1670516
END:VEVENT
BEGIN:VEVENT
DTSTART;TZID=Asia/Shanghai:20230722T200000
DTEND;TZID=Asia/Shanghai:20230723T220000
DTSTAMP:20260420T092939
CREATED:20230517T150151Z
LAST-MODIFIED:20230710T165610Z
UID:90547-1690056000-1690149600@artsequator.com
SUMMARY:George Town Festival: pulu’em and Luna
DESCRIPTION:In an enduring music and dance performance\, pulu’em and Luna celebrate Taiwan’s indigenous artistry and vitality with masterful and evocative narratives inviting audiences on a journey of self and collective reflection. The performance starts with pulu’em by Sangpuy\, a musician from Taiwan’s Pinayumayan tribe\, who pays tribute to the cultural\, natural\, and spiritual heritage of Taiwan’s indigenous peoples with songs from his latest album ‘pulu’em’\, along with his biggest hits and other soulful native tunes. The show continues with Luna\, performed by the highly acclaimed Bulareyaung Dance Company (BDC). Their 2018 milestone production integrates contemporary dance with inspiration from the rituals and singing of the Bunun people\, also listed as a cultural heritage in Taiwan. Together\, pulu’em and Luna offer an otherworldly experience that transports audiences on an immersive journey of self-reflection in the beauty and calm of time\, nature\, and life. \nShow dates: 22 & 23 July 2023 \n  \nGeorge Town Festival 2023 is a project by George Town World Heritage Incorporated (GTWHI)\, organised by TLM Event\, and endorsed by the Penang State Government and the Penang State EXCO for Tourism and Creative Economy (PETACE). It is fully supported by the City Council of Penang Island (MBPP) and Penang Global Tourism (PGT).
URL:https://artsequator.com/event/george-town-festival-puluem-and-luna/
LOCATION:Dewan Budaya (Universiti Sains Malaysia)\, 11800 USM\, Pulau Pinang\, Penang\, Malaysia
CATEGORIES:Dance (Events),Festival (Events)
ATTACH;FMTTYPE=image/jpeg:https://artsequator.s3.ap-southeast-1.amazonaws.com/2023/05/GMrKs4pR-Untitled4.jpg
ORGANIZER;CN="George%20Town%20Festival%20by%20TLM%20Event":MAILTO:ask@georgetownfestival.com
GEO:5.3559337;100.3025177
X-APPLE-STRUCTURED-LOCATION;VALUE=URI;X-ADDRESS=Dewan Budaya (Universiti Sains Malaysia) 11800 USM Pulau Pinang Penang Malaysia;X-APPLE-RADIUS=500;X-TITLE=11800 USM\, Pulau Pinang:geo:100.3025177,5.3559337
END:VEVENT
END:VCALENDAR