BEGIN:VCALENDAR
VERSION:2.0
PRODID:-//ArtsEquator - ECPv5.16.3.1//NONSGML v1.0//EN
CALSCALE:GREGORIAN
METHOD:PUBLISH
X-ORIGINAL-URL:https://artsequator.com
X-WR-CALDESC:Events for ArtsEquator
REFRESH-INTERVAL;VALUE=DURATION:PT1H
X-Robots-Tag:noindex
X-PUBLISHED-TTL:PT1H
BEGIN:VTIMEZONE
TZID:Asia/Shanghai
BEGIN:STANDARD
TZOFFSETFROM:+0800
TZOFFSETTO:+0800
TZNAME:CST
DTSTART:20230101T000000
END:STANDARD
TZID:Asia/Singapore
BEGIN:STANDARD
TZOFFSETFROM:+0800
TZOFFSETTO:+0800
TZNAME:+08
DTSTART:20230101T000000
END:STANDARD
END:VTIMEZONE
BEGIN:VEVENT
DTSTART;VALUE=DATE:20230514
DTEND;VALUE=DATE:20230717
DTSTAMP:20260420T033010
CREATED:20230517T072116Z
LAST-MODIFIED:20230517T153943Z
UID:90326-1684022400-1689551999@artsequator.com
SUMMARY:D.U.N.K. (DANCE UNIVERSE NEVER KILLED)
DESCRIPTION:Our friends from Asia can now catch weekly dance performances on YouTube with English subtitles by D.U.N.K. (DANCE UNIVERSE NEVER KILLED).  At the start of 2023\, D.U.N.K. (DANCE UNIVERSE NEVER KILLED)\, a large-scale music and dance project was formed in partnership with renowned Japanese rapper and artist\, SKY-HI\, together with leading multi-platform entertainment powerhouse and ratings champion broadcaster\, Nippon TV. D.U.N.K. featured some of the best and brightest talents in Japan’s music and dance industry from SKY-HI\, vocal and dance groups &TEAM\, BALLISTIK BOYZ from EXILE TRIBE\, BE:FIRST\, BULLET TRAIN\, DREAMS COME TRUE\, GENERATIONS from EXILE TRIBE\, and artists\, Aile The Shota\, Ayumu Imazu\, REIKO\, as well as dance and performance collectives\, s**t kingz\, to name a few. \n  \nWatch it here: https://www.youtube.com/@dunk-dance/videos
URL:https://artsequator.com/event/d-u-n-k-dance-universe-never-killed/2023-05-14/
LOCATION:Online\, Singapore
CATEGORIES:Dance (Events),Music (Events)
ATTACH;FMTTYPE=image/jpeg:https://artsequator.s3.ap-southeast-1.amazonaws.com/2023/05/D.U.N.K.Showcase_230312.jpg
GEO:1.352083;103.819836
END:VEVENT
BEGIN:VEVENT
DTSTART;VALUE=DATE:20230608
DTEND;VALUE=DATE:20230628
DTSTAMP:20260420T033010
CREATED:20230406T074954Z
LAST-MODIFIED:20230418T172738Z
UID:89773-1686182400-1687910399@artsequator.com
SUMMARY:cont·act Contemporary Dance Festival
DESCRIPTION:cont·act Contemporary Dance Festival returns with a riveting 13th edition that draws us back to the essence of dance: the body as instrument\, and movement as language. What worlds\, horizons\, and perspectives could the medium of dance possibly illuminate? In our present flux\, we let our bodies speak. Reflecting upon the chaos and conundrums of our times\, join our Festival artists in boldly defying labels\, redefining ourselves\, and reimagining our world through the kaleidoscopic lens of movement.
URL:https://artsequator.com/event/cont%c2%b7act-contemporary-dance-festival/
LOCATION:Held across various locations
CATEGORIES:Dance (Events),Festival (Events)
ORGANIZER;CN="T.H.E%20Dance%20Company":MAILTO:info@the-dancecompany.com 
END:VEVENT
BEGIN:VEVENT
DTSTART;TZID=Asia/Shanghai:20230609T200000
DTEND;TZID=Asia/Shanghai:20230610T210000
DTSTAMP:20260420T033010
CREATED:20230426T070303Z
LAST-MODIFIED:20230426T070303Z
UID:89939-1686340800-1686430800@artsequator.com
SUMMARY:NUNO
DESCRIPTION:NUNO (布) is a contemporary and aerial dance production that exploits the convergent possibilities and divergent tensions between contemporary and aerial dance. Five dancers move between the ground and the air\, exploring the dynamics between body to body\, body to silk and body to space. Between the tensile pull of muscle and silk\, NUNO seeks to ask – what new movement possibilities can occur?
URL:https://artsequator.com/event/nuno/
LOCATION:Esplanade Theatre Studio\, 1 Esplanade Dr\, Singapore\, 038981\, Singapore
CATEGORIES:Dance (Events),Event of the Day
ATTACH;FMTTYPE=image/jpeg:https://artsequator.s3.ap-southeast-1.amazonaws.com/2023/04/arts-equator-landscape-with-logo.jpg
ORGANIZER;CN="Decadance%20Co":MAILTO:projects@decadanceco.org
GEO:1.289857;103.8552799
X-APPLE-STRUCTURED-LOCATION;VALUE=URI;X-ADDRESS=Esplanade Theatre Studio 1 Esplanade Dr Singapore 038981 Singapore;X-APPLE-RADIUS=500;X-TITLE=1 Esplanade Dr:geo:103.8552799,1.289857
END:VEVENT
END:VCALENDAR