BEGIN:VCALENDAR
VERSION:2.0
PRODID:-//ArtsEquator - ECPv5.16.3.1//NONSGML v1.0//EN
CALSCALE:GREGORIAN
METHOD:PUBLISH
X-WR-CALNAME:ArtsEquator
X-ORIGINAL-URL:https://artsequator.com
X-WR-CALDESC:Events for ArtsEquator
REFRESH-INTERVAL;VALUE=DURATION:PT1H
X-Robots-Tag:noindex
X-PUBLISHED-TTL:PT1H
BEGIN:VTIMEZONE
TZID:Asia/Shanghai
BEGIN:STANDARD
TZOFFSETFROM:+0800
TZOFFSETTO:+0800
TZNAME:CST
DTSTART:20230101T000000
END:STANDARD
END:VTIMEZONE
BEGIN:VEVENT
DTSTART;VALUE=DATE:20230414
DTEND;VALUE=DATE:20230603
DTSTAMP:20260420T092817
CREATED:20230510T041722Z
LAST-MODIFIED:20230510T041722Z
UID:90004-1681430400-1685750399@artsequator.com
SUMMARY:*SCAPE Creative Art Residencies Open Calls
DESCRIPTION:Calling all choreographers\, dancers\, filmmakers\, movement artists\, and visual artists! *SCAPE Creative Arts invites talented youth artists who are eager to collaborate\, experiment\, and incubate new and original works. \nYou will get an opportunity to showcase your creativity and present your works in early 2024. Apply now and send in your ideas! https://bit.ly/CAopencall2023
URL:https://artsequator.com/event/scape-creative-art-residencies-open-calls/
LOCATION:*SCAPE\, 2 Orchard Link #02-14\, Singapore\, Singapore\, 237978\, Singapore
CATEGORIES:Dance (Events),Film Screening (Events),Other (Events),Visual Arts (Events)
ATTACH;FMTTYPE=image/jpeg:https://artsequator.s3.ap-southeast-1.amazonaws.com/2023/05/SCAPE-Artists-Residencies-Open-Call-2023.jpg
ORGANIZER;CN="%2ASCAPE":MAILTO:nyfa@scape.sg
GEO:1.3010543;103.835846
X-APPLE-STRUCTURED-LOCATION;VALUE=URI;X-ADDRESS=*SCAPE 2 Orchard Link #02-14 Singapore Singapore 237978 Singapore;X-APPLE-RADIUS=500;X-TITLE=2 Orchard Link #02-14:geo:103.835846,1.3010543
END:VEVENT
END:VCALENDAR