BEGIN:VCALENDAR
VERSION:2.0
PRODID:-//ArtsEquator - ECPv5.16.3.1//NONSGML v1.0//EN
CALSCALE:GREGORIAN
METHOD:PUBLISH
X-WR-CALNAME:ArtsEquator
X-ORIGINAL-URL:https://artsequator.com
X-WR-CALDESC:Events for ArtsEquator
REFRESH-INTERVAL;VALUE=DURATION:PT1H
X-Robots-Tag:noindex
X-PUBLISHED-TTL:PT1H
BEGIN:VTIMEZONE
TZID:Asia/Shanghai
BEGIN:STANDARD
TZOFFSETFROM:+0800
TZOFFSETTO:+0800
TZNAME:CST
DTSTART:20220101T000000
END:STANDARD
END:VTIMEZONE
BEGIN:VEVENT
DTSTART;TZID=Asia/Shanghai:20221210T170000
DTEND;TZID=Asia/Shanghai:20221211T200000
DTSTAMP:20260420T160536
CREATED:20221115T062144Z
LAST-MODIFIED:20230517T153528Z
UID:87527-1670691600-1670788800@artsequator.com
SUMMARY:Pole Dance Movement's 5th Anniversary - Expressions & Energy
DESCRIPTION:You’re invited to a rare & exclusive look into the world of pole dancing brought to you by Pole Dance Movement in celebration of our 5th Anniversary. Headlining with a thrill-packed 2 days of Pole Dance performances at the heart of Kuala Lumpur city\, gathering dancers from all over Malaysia and internationally acclaimed judges and performers. \nPole Dance Movement is one of the leading pole studios in Malaysia. We have an amazing team of internationally acclaimed\, award winning instructors with a thriving & tight-knit community of students.  Check us out on Instagram @poledancemovement for more about us! \n\n  \n\nEvent Details: \nExpressions | Saturday\, 10th December 2022 @ 7 – 10PM\nA Nationwide Pole Competition featuring dancers from all over Malaysia\, and a guest performance by our international Judge\, Louis Sue from PXD Singapore. Created with the aspiration to unite and empower the Malaysian pole community and designed to celebrate each pole dancer’s unique strengths & creativity. We hope to help develop the upcoming generation of pole dancers with the vision for Malaysia to become an internationally recognised pole hub.\n\nEnergy | Sunday\, 11th December 2022 @ 5 – 8PM\nA curated Showcase by Pole Dance Movement. Performed by our students and internationally acclaimed team of instructors\, let us take you on a journey as we explore the different manifestations of feminine energy in all its forms\, through the release of shame and stepping into our power.\n\nTicketing Link: http://t2u.asia/e/28628\nInstagram Link: https://www.instagram.com/poledancemovement/?hl=en
URL:https://artsequator.com/event/pole-dance-movements-5th-anniversary-expressions-energy/2022-12-10/
LOCATION:Zebra Square KL\, No. 18 and 20\, Jalan Kampung Pandan\, Off\, Jln Tun Razak\, Royal Selangor Golf Club\, Kuala Lumpur\, Wilayah Perseketuan\, 55100\, Malaysia
CATEGORIES:Dance (Events),Other (Events),Workshop & Talks (Events)
ATTACH;FMTTYPE=image/png:https://artsequator.s3.ap-southeast-1.amazonaws.com/2022/11/NOV-27th-28th-Zebra-Square-KL.png
ORGANIZER;CN="Pole%20Dance%20Movement":MAILTO:poledancemovement@gmail.com
GEO:3.1380152;101.7241445
X-APPLE-STRUCTURED-LOCATION;VALUE=URI;X-ADDRESS=Zebra Square KL No. 18 and 20 Jalan Kampung Pandan Off Jln Tun Razak Royal Selangor Golf Club Kuala Lumpur Wilayah Perseketuan 55100 Malaysia;X-APPLE-RADIUS=500;X-TITLE=No. 18 and 20\, Jalan Kampung Pandan\, Off\, Jln Tun Razak\, Royal Selangor Golf Club:geo:101.7241445,3.1380152
END:VEVENT
END:VCALENDAR