BEGIN:VCALENDAR
VERSION:2.0
PRODID:-//ArtsEquator - ECPv5.16.3.1//NONSGML v1.0//EN
CALSCALE:GREGORIAN
METHOD:PUBLISH
X-WR-CALNAME:ArtsEquator
X-ORIGINAL-URL:https://artsequator.com
X-WR-CALDESC:Events for ArtsEquator
REFRESH-INTERVAL;VALUE=DURATION:PT1H
X-Robots-Tag:noindex
X-PUBLISHED-TTL:PT1H
BEGIN:VTIMEZONE
TZID:Asia/Shanghai
BEGIN:STANDARD
TZOFFSETFROM:+0800
TZOFFSETTO:+0800
TZNAME:CST
DTSTART:20220101T000000
END:STANDARD
END:VTIMEZONE
BEGIN:VEVENT
DTSTART;TZID=Asia/Shanghai:20221209T200000
DTEND;TZID=Asia/Shanghai:20221210T213000
DTSTAMP:20260420T160521
CREATED:20221103T053137Z
LAST-MODIFIED:20221103T053137Z
UID:86999-1670616000-1670707800@artsequator.com
SUMMARY:Frontier Danceland presents MILIEU 2022
DESCRIPTION:MILIEU 2022 is a contemporary dance double bill featuring an international cross-cultural co-creation between two veteran choreographers\, Low Mei Yoke (Singapore) and Irene Kalbusch (Belgium) from Compagnie Irene K.\, as well as an original work by award-winning international choreographer\, Loke Soh Kim (Malaysia). \nDo not miss this stirring double bill that celebrates the diversity of cultures and influences!\n\n\nThere will be a post-performance dialogue after the 3pm matinee performance.
URL:https://artsequator.com/event/frontier-danceland-presents-milieu-2022/
LOCATION:Esplanade Theatre Studio\, 1 Esplanade Dr\, Singapore\, 038981\, Singapore
CATEGORIES:Dance (Events)
ATTACH;FMTTYPE=image/png:https://artsequator.s3.ap-southeast-1.amazonaws.com/2022/11/ArtsEquator.png
ORGANIZER;CN="Frontier%20Danceland":MAILTO:marketing@frontierdanceland.com
GEO:1.289857;103.8552799
X-APPLE-STRUCTURED-LOCATION;VALUE=URI;X-ADDRESS=Esplanade Theatre Studio 1 Esplanade Dr Singapore 038981 Singapore;X-APPLE-RADIUS=500;X-TITLE=1 Esplanade Dr:geo:103.8552799,1.289857
END:VEVENT
END:VCALENDAR