BEGIN:VCALENDAR
VERSION:2.0
PRODID:-//ArtsEquator - ECPv5.16.3.1//NONSGML v1.0//EN
CALSCALE:GREGORIAN
METHOD:PUBLISH
X-WR-CALNAME:ArtsEquator
X-ORIGINAL-URL:https://artsequator.com
X-WR-CALDESC:Events for ArtsEquator
REFRESH-INTERVAL;VALUE=DURATION:PT1H
X-Robots-Tag:noindex
X-PUBLISHED-TTL:PT1H
BEGIN:VTIMEZONE
TZID:Asia/Shanghai
BEGIN:STANDARD
TZOFFSETFROM:+0800
TZOFFSETTO:+0800
TZNAME:CST
DTSTART:20220101T000000
END:STANDARD
END:VTIMEZONE
BEGIN:VEVENT
DTSTART;TZID=Asia/Shanghai:20221202T200000
DTEND;TZID=Asia/Shanghai:20221204T163000
DTSTAMP:20260420T155154
CREATED:20221103T053159Z
LAST-MODIFIED:20221103T053159Z
UID:86955-1670011200-1670171400@artsequator.com
SUMMARY:Seeing ______ Through the Eyes of Impermanence II
DESCRIPTION:In our ever-changing world\, the desire to capture passing moments and transient experiences gives rise to questions about the nature of permanence itself. Are tangible objects and structures immune to forces of change? Could intangible forms\, beliefs and values remain lasting in their relevance? What residues are inevitably left behind in the wake of impermanence?\n\nThe Human Expression (T.H.E) Dance Company and T.H.E Second Company share the stage in Seeing ______ Through the Eyes of Impermanence II\, featuring a restaging of 2012’s Hey Man! by resident choreographer Kim Jae Duk\, and a reinterpretation of Kuik Swee Boon’s Helix (originally Helix\, in progress in 2016). In looking at the interactions of singular and collective selves\, this double bill reimagines ways of exchange\, encounter and existence\, reclaiming a contemporary resilience for the challenges of our times.
URL:https://artsequator.com/event/seeing-______-through-the-eyes-of-impermanence-ii/
LOCATION:Esplanade Theatre Studio\, 1 Esplanade Dr\, Singapore\, 038981\, Singapore
CATEGORIES:Dance (Events)
ATTACH;FMTTYPE=image/jpeg:https://artsequator.s3.ap-southeast-1.amazonaws.com/2022/11/FB-Banner.jpg
ORGANIZER;CN="T.H.E%20Dance%20Company":MAILTO:info@the-dancecompany.com 
GEO:1.289857;103.8552799
X-APPLE-STRUCTURED-LOCATION;VALUE=URI;X-ADDRESS=Esplanade Theatre Studio 1 Esplanade Dr Singapore 038981 Singapore;X-APPLE-RADIUS=500;X-TITLE=1 Esplanade Dr:geo:103.8552799,1.289857
END:VEVENT
END:VCALENDAR