BEGIN:VCALENDAR
VERSION:2.0
PRODID:-//ArtsEquator - ECPv5.16.3.1//NONSGML v1.0//EN
CALSCALE:GREGORIAN
METHOD:PUBLISH
X-ORIGINAL-URL:https://artsequator.com
X-WR-CALDESC:Events for ArtsEquator
REFRESH-INTERVAL;VALUE=DURATION:PT1H
X-Robots-Tag:noindex
X-PUBLISHED-TTL:PT1H
BEGIN:VTIMEZONE
TZID:Asia/Shanghai
BEGIN:STANDARD
TZOFFSETFROM:+0800
TZOFFSETTO:+0800
TZNAME:CST
DTSTART:20220101T000000
END:STANDARD
END:VTIMEZONE
BEGIN:VEVENT
DTSTART;TZID=Asia/Shanghai:20220901T200000
DTEND;TZID=Asia/Shanghai:20220901T210000
DTSTAMP:20260421T032950
CREATED:20220719T061016Z
LAST-MODIFIED:20220719T061016Z
UID:83567-1662062400-1662066000@artsequator.com
SUMMARY:Glitch by Wu Jun Han (Singapore)
DESCRIPTION:We live in a time of unprecedented technological development. From ancient stone tools all the way to the computers that we use to work and live\, we have always possessed the innate desire to progress and advance. We’ve come far enough that we’ve begun to trust in our computers in ways that we wouldn’t trust another human being. \nAs we further develop these systems\, could we one day ask the machine to interpret our dreams?\nCan we see ourselves in the machines we use?\nCan we ground ourselves in the ‘now’ to catch a glimpse of possible futures? \n  \n(Use the promo code EB20 to enjoy 20% discount off ticket prices\, until 18 July 2022)
URL:https://artsequator.com/event/glitch-by-wu-jun-han-singapore/2022-09-01/
LOCATION:Goodman Arts Centre\, 90 Goodman Road\, Block O\, Singapore\, Singapore 439053\, Singapore
CATEGORIES:Children/Family (Events),Dance (Events),Event of the Day,Music (Events),Other (Events),Theatre (Events),Visual Arts (Events)
ATTACH;FMTTYPE=image/jpeg:https://artsequator.s3.ap-southeast-1.amazonaws.com/2022/07/Email-Banner_Final.jpg
ORGANIZER;CN="RAW%20Moves%20Ltd":MAILTO:rawmoves.main@gmail.com
GEO:1.30444;103.885325
X-APPLE-STRUCTURED-LOCATION;VALUE=URI;X-ADDRESS=Goodman Arts Centre 90 Goodman Road Block O Singapore Singapore 439053 Singapore;X-APPLE-RADIUS=500;X-TITLE=90 Goodman Road\, Block O:geo:103.885325,1.30444
END:VEVENT
END:VCALENDAR