BEGIN:VCALENDAR
VERSION:2.0
PRODID:-//ArtsEquator - ECPv5.16.3.1//NONSGML v1.0//EN
CALSCALE:GREGORIAN
METHOD:PUBLISH
X-ORIGINAL-URL:https://artsequator.com
X-WR-CALDESC:Events for ArtsEquator
REFRESH-INTERVAL;VALUE=DURATION:PT1H
X-Robots-Tag:noindex
X-PUBLISHED-TTL:PT1H
BEGIN:VTIMEZONE
TZID:Asia/Shanghai
BEGIN:STANDARD
TZOFFSETFROM:+0800
TZOFFSETTO:+0800
TZNAME:CST
DTSTART:20220101T000000
END:STANDARD
END:VTIMEZONE
BEGIN:VEVENT
DTSTART;TZID=Asia/Shanghai:20220824T200000
DTEND;TZID=Asia/Shanghai:20220826T210000
DTSTAMP:20260421T082643
CREATED:20220824T120000Z
LAST-MODIFIED:20220823T054734Z
UID:84541-1661371200-1661547600@artsequator.com
SUMMARY:Odissi
DESCRIPTION:Chowk Productions is proud to present Odissi\, a showcase of the classical dance form that is the basis of our work. \nAs classical dance styles evolve through artistic exploration and new interpretations\, we bring the focus back to the form as it is taught at Chowk\, with the subtle intricacies of the style developed by the legendary Guru Kelucharan Mohapatra. \nA rare opportunity to see Chowk’s dancers Caroline Chin and Anushka Ghosh perform with live classical musicians\, Odissi dedicates itself to the timeless grace and beauty of the classical.
URL:https://artsequator.com/event/odissi/
LOCATION:Goodman Arts Centre Black Box\, Singapore\, Singapore
CATEGORIES:Dance (Events)
ATTACH;FMTTYPE=image/png:https://artsequator.s3.ap-southeast-1.amazonaws.com/2022/08/cover.png
GEO:1.352083;103.819836
END:VEVENT
END:VCALENDAR