BEGIN:VCALENDAR
VERSION:2.0
PRODID:-//ArtsEquator - ECPv5.16.3.1//NONSGML v1.0//EN
CALSCALE:GREGORIAN
METHOD:PUBLISH
X-WR-CALNAME:ArtsEquator
X-ORIGINAL-URL:https://artsequator.com
X-WR-CALDESC:Events for ArtsEquator
REFRESH-INTERVAL;VALUE=DURATION:PT1H
X-Robots-Tag:noindex
X-PUBLISHED-TTL:PT1H
BEGIN:VTIMEZONE
TZID:Asia/Shanghai
BEGIN:STANDARD
TZOFFSETFROM:+0800
TZOFFSETTO:+0800
TZNAME:CST
DTSTART:20230101T000000
END:STANDARD
END:VTIMEZONE
BEGIN:VEVENT
DTSTART;TZID=Asia/Shanghai:20230114T143000
DTEND;TZID=Asia/Shanghai:20230115T220000
DTSTAMP:20260420T133850
CREATED:20221216T090602Z
LAST-MODIFIED:20230106T052225Z
UID:88881-1673706600-1673820000@artsequator.com
SUMMARY:Jalan Jalan Cari Makan by SHIFT
DESCRIPTION:About SHIFT \nSHIFT is a progressive young dance artist development programme that is targeted at youths 14-25 years old\, with a focus on those trained in street dance forms. Across 3 years\, the dancers receive training from industry professionals in dance skills\, movement philosophies and more. Discover more here. \nAbout Jalan Jalan Cari Makan \nThis production is the hard work of the Year 1 SHIFTers\, who have successfully gone through a full year of training and ending it off with an opportunity to apply their experiences. Jalan Jalan Cari Makan features 4 pieces choreographed by 4 dance industry professionals\, created together with the SHIFTers. \n“Jalan Jalan Cari Makan”: loosely means going for a stroll to look for food. \nWe envision the dancers’ journey thus far as a collection of different experiences – the “ingredients” that make up who they are today. What happens when we take the time to collate these ingredients? What dishes can we cook up? How do we feel about the journey and the results? \nExploring themes from hunger to desire\, confusion to abstinence\, we invite you to jalan-jalan with us this January 2023. \nThis event is made possible with the support of: \n\nNational Arts Council\nArts Fund\nNational Youth Coucil
URL:https://artsequator.com/event/jalan-jalan-cari-makan-by-shift/
LOCATION:Stamford Arts Centre\, 0202\, 155 Waterloo Street\, Singapore\, Singapore\, 187962\, Singapore
CATEGORIES:Dance (Events),Theatre (Events)
ATTACH;FMTTYPE=image/jpeg:https://artsequator.s3.ap-southeast-1.amazonaws.com/2022/12/Jalan-Jalan-Cari-Makan-2023.jpg
ORGANIZER;CN="SHIFT":MAILTO:enquireshift@gmail.com
END:VEVENT
BEGIN:VEVENT
DTSTART;TZID=Asia/Shanghai:20230128T213000
DTEND;TZID=Asia/Shanghai:20230129T213000
DTSTAMP:20260420T133850
CREATED:20230117T015117Z
LAST-MODIFIED:20230117T015117Z
UID:89098-1674941400-1675027800@artsequator.com
SUMMARY:BIRTHDAY OF AN ERA
DESCRIPTION:Luv\, it’s just art.  \nCelebrating the second year of fated love sky\, a femme pop art group. It’s our birthday and you’re coming!  \nfated love sky presents an all-in-one comedy night\, film screening and party at The Projector Golden Mile. Hosted by SG’s TOP comedy queen Preetipls – expect fun\, joy\, laughter and lots of love. Come watch a parody of performance art. This is your little entry into Singapore’s RuPaul’s Drag Race and America’s Next Top Model. Netflix\, you need to sign us up right now.  \nThe film is directed by Feedbeng. Starring ‘multidisciplinariest’ artists Howie Kim\, Léann Herhily\, Mithra Jeevananthan\, Rifqi Amirul Rosli\, Weixin Quek Chong\, and co-curators Chand Chandramohan & Racy Lim. Guest starring Divaagar and Kansh. What are Singapore\, Ireland and Madrid’s TOP ARTISTS up to???? \nAll characters and dialogues are purely fictitious\, based on years of imagination and delusions. Any resemblance to real people and events are coincidental\, with the exception of our queen Marina Abramović.  \nThis night is a celebration of friendship\, femme joy and an ode to our queer friends. If you love art\, come. If you hate art\, come. If you don’t know what art is\, come. If you can take the heat and like a bit of spice\, steam\, cuteness and celestial madness\, SHOW UP! \nDoors open at 9.15pm. Film screening + comedy begins at 9.30pm. The theatre transitions into a hot camp party with live DJ sets after the film/comedy. \nDress up party – show up like BARBZ. \nDJs: \nhowrøng – his deep dive into underground electronic music began in 2020 when he lived in Berlin. Since moving back to Singapore\, he regularly djs for queer collective “Bussytemple”\, with the aim of bringing a safe rave space for queer people (especially for the femme and non-binary community) in Singapore. His style can be described as a journey through groovy and hard techno\, tribal\, queer pop\, ghetto\, featuring asian and LGBTQIA artists. \nsoyf§g – the dj moniker of visual artist Aki Hassan. They aim to play anything hard to get your hearts pumping. They appear on Clyde Built Radio bi-monthly\, where they play banging tunes & share personal queer trans encounters in their life. They are a resident DJ and co-organiser in Bussy Temple\, a queer party collective based in Singapore. \n༄ XAETHERX ̀͛༄ (they/them) – @kanshhhhh ‘s DJ alter-ego – a shape-shifter. They are a multidisciplinary non-binary artist. Their sound encapsulates eclectic waves of sonic aesthetic that leads you through a journey. For Fated Love Sky\, they will be incorporating the dramatique\, the queer culture\, the desi beats for this specially curated kunty set. They also run a multidiscplinary art platform @0rb__it \nMusic visuals: \nCybercesspool \n— \nThis event is co-organised by fated love sky and artists Raigo Law + Rifqi Amirul Rosli.
URL:https://artsequator.com/event/birthday-of-an-era/
LOCATION:The Projector\, #05-00 Golden Mile Tower\, Singapore\, 199589\, Singapore
CATEGORIES:Dance (Events),Film Screening (Events),Music (Events),Theatre (Events),Visual Arts (Events)
ATTACH;FMTTYPE=image/png:https://artsequator.s3.ap-southeast-1.amazonaws.com/2023/01/web-horizontal_1920x1080px_v2.png
GEO:1.301947;103.864015
X-APPLE-STRUCTURED-LOCATION;VALUE=URI;X-ADDRESS=The Projector #05-00 Golden Mile Tower Singapore 199589 Singapore;X-APPLE-RADIUS=500;X-TITLE=#05-00 Golden Mile Tower:geo:103.864015,1.301947
END:VEVENT
END:VCALENDAR