BEGIN:VCALENDAR
VERSION:2.0
PRODID:-//ArtsEquator - ECPv5.16.3.1//NONSGML v1.0//EN
CALSCALE:GREGORIAN
METHOD:PUBLISH
X-ORIGINAL-URL:https://artsequator.com
X-WR-CALDESC:Events for ArtsEquator
REFRESH-INTERVAL;VALUE=DURATION:PT1H
X-Robots-Tag:noindex
X-PUBLISHED-TTL:PT1H
BEGIN:VTIMEZONE
TZID:Asia/Shanghai
BEGIN:STANDARD
TZOFFSETFROM:+0800
TZOFFSETTO:+0800
TZNAME:CST
DTSTART:20220101T000000
END:STANDARD
END:VTIMEZONE
BEGIN:VEVENT
DTSTART;TZID=Asia/Shanghai:20220901T200000
DTEND;TZID=Asia/Shanghai:20220901T210000
DTSTAMP:20260421T070656
CREATED:20220719T061016Z
LAST-MODIFIED:20220719T061016Z
UID:83567-1662062400-1662066000@artsequator.com
SUMMARY:Glitch by Wu Jun Han (Singapore)
DESCRIPTION:We live in a time of unprecedented technological development. From ancient stone tools all the way to the computers that we use to work and live\, we have always possessed the innate desire to progress and advance. We’ve come far enough that we’ve begun to trust in our computers in ways that we wouldn’t trust another human being. \nAs we further develop these systems\, could we one day ask the machine to interpret our dreams?\nCan we see ourselves in the machines we use?\nCan we ground ourselves in the ‘now’ to catch a glimpse of possible futures? \n  \n(Use the promo code EB20 to enjoy 20% discount off ticket prices\, until 18 July 2022)
URL:https://artsequator.com/event/glitch-by-wu-jun-han-singapore/2022-09-01/
LOCATION:Goodman Arts Centre\, 90 Goodman Road\, Block O\, Singapore\, Singapore 439053\, Singapore
CATEGORIES:Children/Family (Events),Dance (Events),Event of the Day,Music (Events),Other (Events),Theatre (Events),Visual Arts (Events)
ATTACH;FMTTYPE=image/jpeg:https://artsequator.s3.ap-southeast-1.amazonaws.com/2022/07/Email-Banner_Final.jpg
ORGANIZER;CN="RAW%20Moves%20Ltd":MAILTO:rawmoves.main@gmail.com
GEO:1.30444;103.885325
X-APPLE-STRUCTURED-LOCATION;VALUE=URI;X-ADDRESS=Goodman Arts Centre 90 Goodman Road Block O Singapore Singapore 439053 Singapore;X-APPLE-RADIUS=500;X-TITLE=90 Goodman Road\, Block O:geo:103.885325,1.30444
END:VEVENT
BEGIN:VEVENT
DTSTART;TZID=Asia/Shanghai:20220903T190000
DTEND;TZID=Asia/Shanghai:20220903T200000
DTSTAMP:20260421T070656
CREATED:20220813T081541Z
LAST-MODIFIED:20220823T054937Z
UID:84358-1662231600-1662235200@artsequator.com
SUMMARY:Drifted - an intergenerational contemporary dance production by Decadance Co.
DESCRIPTION:Drifted explores grief\, memory\, and celebration\, unfurling the different dynamics of loss for all bodies young and old. Taking reference from the book ‘Lost in the Clouds’ by Tom-Tinn Disbury as a starting point\, Drifted is devised together with dancers from Decadance Co\, our decak!ds young dancers\, and seniors from our decasilver elderly community engagement program. This production is perfect for all ages\, and will resonate with audiences new or familiar to contemporary dance. Journey through the landscape of life after loss with us\, as we explore how emotional bonds are ageless\, timeless\, and unbound by physical presence. 
URL:https://artsequator.com/event/drifted-an-intergenerational-contemporary-dance-production-by-decadance-co/
LOCATION:28 Aliwal St\, Singapore 199918\, 28 Aliwal St\, Singapore 199918\, Singapore\, 199918\, Singapore
CATEGORIES:Dance (Events),Event of the Day
ATTACH;FMTTYPE=image/png:https://artsequator.s3.ap-southeast-1.amazonaws.com/2022/08/Untitled-1400-%C3%97-1000-px-1.png
ORGANIZER;CN="Decadance%20Co":MAILTO:projects@decadanceco.org
GEO:1.3027035;103.8609818
X-APPLE-STRUCTURED-LOCATION;VALUE=URI;X-ADDRESS=28 Aliwal St Singapore 199918 28 Aliwal St Singapore 199918 Singapore 199918 Singapore;X-APPLE-RADIUS=500;X-TITLE=28 Aliwal St\, Singapore 199918:geo:103.8609818,1.3027035
END:VEVENT
BEGIN:VEVENT
DTSTART;VALUE=DATE:20220909
DTEND;VALUE=DATE:20220912
DTSTAMP:20260421T070656
CREATED:20220818T065337Z
LAST-MODIFIED:20220823T054901Z
UID:84539-1662681600-1662940799@artsequator.com
SUMMARY:Moonfest – A Mid-Autumn Celebration 2022
DESCRIPTION:Moonfest – A Mid-Autumn Celebration is an annual traditional Chinese arts festival held in celebration of the Mid-Autumn Festival. The festival is celebrated across the world by the Chinese\, and their large and far-flung diaspora. While the celebrations differ in the various countries\, the spirit remains the same. Families and friends gather to rejoice and give thanks for harmony and the fullness of life under a beautiful full moon. Celebrating this tradition\, the 18th edition of Moonfest will be happening from 9 – 11 Sep 2022 with on-site live performances and ticketed workshops\, with a peek behind-the-scenes online. It presents the opportunity for families and friends\, young and old to be exposed to and rediscover the intrinsic beauty of traditional Chinese arts.
URL:https://artsequator.com/event/moonfest-a-mid-autumn-celebration-2022/
LOCATION:Esplanade – Theatres on the Bay\, 1 Esplanade Dr\, 038981\, Singapore
CATEGORIES:Children/Family (Events),Dance (Events),Festival (Events),Music (Events),Theatre (Events),Workshop & Talks (Events)
ATTACH;FMTTYPE=image/jpeg:https://artsequator.s3.ap-southeast-1.amazonaws.com/2022/08/moonfest-2022_key-visual.jpg
GEO:1.289857;103.8552799
X-APPLE-STRUCTURED-LOCATION;VALUE=URI;X-ADDRESS=Esplanade – Theatres on the Bay 1 Esplanade Dr 038981 Singapore;X-APPLE-RADIUS=500;X-TITLE=1 Esplanade Dr:geo:103.8552799,1.289857
END:VEVENT
END:VCALENDAR